BEGIN:VCALENDAR
VERSION:2.0
PRODID:-//Toastmasters District 123 - ECPv6.2.0.1//NONSGML v1.0//EN
CALSCALE:GREGORIAN
METHOD:PUBLISH
X-WR-CALNAME:Toastmasters District 123
X-ORIGINAL-URL:https://toastmasters123.org
X-WR-CALDESC:Events for Toastmasters District 123
REFRESH-INTERVAL;VALUE=DURATION:PT1H
X-Robots-Tag:noindex
X-PUBLISHED-TTL:PT1H
BEGIN:VTIMEZONE
TZID:America/Toronto
BEGIN:DAYLIGHT
TZOFFSETFROM:-0500
TZOFFSETTO:-0400
TZNAME:EDT
DTSTART:20250309T070000
END:DAYLIGHT
BEGIN:STANDARD
TZOFFSETFROM:-0400
TZOFFSETTO:-0500
TZNAME:EST
DTSTART:20251102T060000
END:STANDARD
BEGIN:DAYLIGHT
TZOFFSETFROM:-0500
TZOFFSETTO:-0400
TZNAME:EDT
DTSTART:20260308T070000
END:DAYLIGHT
BEGIN:STANDARD
TZOFFSETFROM:-0400
TZOFFSETTO:-0500
TZNAME:EST
DTSTART:20261101T060000
END:STANDARD
TZID:America/New_York
BEGIN:DAYLIGHT
TZOFFSETFROM:-0500
TZOFFSETTO:-0400
TZNAME:EDT
DTSTART:20250309T070000
END:DAYLIGHT
BEGIN:STANDARD
TZOFFSETFROM:-0400
TZOFFSETTO:-0500
TZNAME:EST
DTSTART:20251102T060000
END:STANDARD
END:VTIMEZONE
BEGIN:VEVENT
DTSTART;TZID=America/Toronto:20260225T193000
DTEND;TZID=America/Toronto:20260225T210000
DTSTAMP:20260421T143424
CREATED:20251214T122357Z
LAST-MODIFIED:20251214T122357Z
UID:10001554-1772047800-1772053200@toastmasters123.org
SUMMARY:Division B Club Officer Training 2025 II
DESCRIPTION:Club Officer Training II is designed to strengthen the leadership capacity of our club officers as they move into the second half of the Toastmasters year. This session reinforces core responsibilities\, introduces advanced strategies for club excellence\, and equips officers to finish the year strong with clarity\, confidence\, and collaboration. \nObjectives\n\nReinforce foundational officer roles and ensure alignment with Toastmasters standards.\nShare mid‑year best practices that help clubs maintain momentum and address emerging challenges.\nProvide targeted skill‑building in areas such as member engagement\, quality meetings\, and strategic planning.\nStrengthen inter‑club collaboration across the Division to build a supportive leadership community.\nPrepare clubs for Distinguished Club Program (DCP) success through actionable planning and accountability.\n\nKey Messages\n\nLeadership is a relay\, not a sprint. The second half of the year is where consistency\, communication\, and collaboration matter most.\nEvery officer influences club culture. When officers lead with intention\, members thrive and clubs grow.\nTraining is not a requirement—it’s an advantage. Officers who invest in their development elevate the entire club experience.\nWe finish the year together. Division and Area leaders are committed partners in each club’s success.\n\nTraining Focus Areas\n1. Role-Specific Mastery\nBreakout sessions will deepen understanding of each officer role\, with emphasis on: \n\nStrategic planning\nEffective delegation\nMeeting quality and member experience\nTools and resources available through Toastmasters International\n\n2. Membership & Engagement\n\nRetention strategies for mid‑year\nCreating a culture of belonging\nRunning impactful open houses and guest pathways\n\n3. Distinguished Club Program (DCP) Strategy\n\nReviewing current club progress\nIdentifying gaps and opportunities\nBuilding a clear\, achievable plan for year‑end success\n\n4. Leadership Excellence\n\nCommunication and conflict resolution\nMotivating volunteers\nLeading with presence\, empathy\, and accountability\n\nExpectations for Officers\n\nAttend the full training session\nParticipate actively in discussions and breakout rooms\nBring club-specific questions\, challenges\, and goals\nCommit to implementing at least one improvement action within 30 days\n\nDivision Director Closing Message\nAs we step into the second half of the Toastmasters year\, our mission is simple: equip every club officer to lead with clarity\, courage\, and purpose. Your leadership shapes the member experience\, and your commitment today strengthens the legacy we build across our Division. \nTogether\, we elevate voices\, empower leaders\, and create clubs where people grow.
URL:https://toastmasters123.org/event/division-b-club-officer-training-2025-ii/
LOCATION:Zoom\, Ontario\, Canada
CATEGORIES:Club Officer Training,Divisions
ATTACH;FMTTYPE=image/png:https://toastmasters123.org/wp-content/uploads/2025/12/Club-Officer-Training.png
ORGANIZER;CN="DIvision%20B%20Director":MAILTO:divb@toastmasters123.org
END:VEVENT
BEGIN:VEVENT
DTSTART;TZID=America/Toronto:20260220T190000
DTEND;TZID=America/Toronto:20260220T210000
DTSTAMP:20260421T143424
CREATED:20260205T030644Z
LAST-MODIFIED:20260205T030644Z
UID:10001579-1771614000-1771621200@toastmasters123.org
SUMMARY:Division N Club Officer Training - Round 2
DESCRIPTION:Division N Club Officer Training – Round 2 \nTraining available for all executive roles. Includes workshop on helping clubs thrive.
URL:https://toastmasters123.org/event/division-n-club-officer-training-round-2/
LOCATION:Zoom\, Ontario\, Canada
CATEGORIES:Club Officer Training,N
ATTACH;FMTTYPE=image/png:https://toastmasters123.org/wp-content/uploads/2026/01/Division-N-COT.png
ORGANIZER;CN="Division%20N%20Director":MAILTO:divn@toastmasters123.org
END:VEVENT
BEGIN:VEVENT
DTSTART;TZID=America/Toronto:20260117T100000
DTEND;TZID=America/Toronto:20260117T120000
DTSTAMP:20260421T143424
CREATED:20260107T014910Z
LAST-MODIFIED:20260107T014910Z
UID:10001564-1768644000-1768651200@toastmasters123.org
SUMMARY:Division A Club Officer Training Round 2
DESCRIPTION:Here’s your chance to help your club thrive and for you to grow as a leader while scoring valuable DCP points. Win-win!
URL:https://toastmasters123.org/event/division-a-club-officer-training-round-2/
LOCATION:Zoom\, Ontario\, Canada
CATEGORIES:Club Officer Training
ATTACH;FMTTYPE=image/png:https://toastmasters123.org/wp-content/uploads/2025/07/COT-828-x-676-px-Training-generic.png
ORGANIZER;CN="Division%20A%20Director":MAILTO:diva@toastmasters123.org
END:VEVENT
BEGIN:VEVENT
DTSTART;TZID=America/Toronto:20260113T200000
DTEND;TZID=America/Toronto:20260113T213000
DTSTAMP:20260421T143424
CREATED:20251209T022918Z
LAST-MODIFIED:20251209T022946Z
UID:10001550-1768334400-1768339800@toastmasters123.org
SUMMARY:Division E Club Officer Training Round 2
DESCRIPTION:The Club Officer Training provides the essential knowledge\, strategies\, and best practices every officer needs to support a successful Toastmasters year. Learn your role\, connect with other leaders\, and walk away with actionable tools to help your club thrive.
URL:https://toastmasters123.org/event/division-e-club-officer-training-round-2/
LOCATION:Zoom\, Ontario\, Canada
CATEGORIES:Club Officer Training
ATTACH;FMTTYPE=image/jpeg:https://toastmasters123.org/wp-content/uploads/2025/12/COTTRAINING2.jpg
ORGANIZER;CN="Division%20E%20Director":MAILTO:dive@toastmasters123.org
END:VEVENT
BEGIN:VEVENT
DTSTART;TZID=America/Toronto:20251220T190000
DTEND;TZID=America/Toronto:20251220T203000
DTSTAMP:20260421T143424
CREATED:20251221T053132Z
LAST-MODIFIED:20251221T053132Z
UID:10001556-1766257200-1766262600@toastmasters123.org
SUMMARY:Division M Club Officers Training (Round 2)
DESCRIPTION:This training is being organized to help reinforce club officer leadership skill\, share their experience so far and learn from each other to achieve their club’s Distinguished Club Program (DCP) goals.
URL:https://toastmasters123.org/event/division-m-club-officers-training-round-2/
LOCATION:Online
CATEGORIES:Club Officer Training
ATTACH;FMTTYPE=image/png:https://toastmasters123.org/wp-content/uploads/2025/07/COT-828-x-676-px-Training-generic.png
ORGANIZER;CN="Division%20M%20Director":MAILTO:divm@toastmasters123.org
END:VEVENT
BEGIN:VEVENT
DTSTART;TZID=America/New_York:20251206T113000
DTEND;TZID=America/New_York:20251206T130000
DTSTAMP:20260421T143424
CREATED:20251006T141730Z
LAST-MODIFIED:20251007T165432Z
UID:10001505-1765020600-1765026000@toastmasters123.org
SUMMARY:Club Officer Training Round 2 Division C\, District 123
DESCRIPTION:Club Officer Training Round 2\, by Division C – District 123
URL:https://toastmasters123.org/event/club-officer-training-round-2-division-c-district-123/
LOCATION:Online
CATEGORIES:Areas,C,Club Growth,Club Growth,Club Officer Training,Club Support
ATTACH;FMTTYPE=image/jpeg:https://toastmasters123.org/wp-content/uploads/2025/10/9462FC16-C9E1-48D0-8D13-2A29827E5EB4.jpeg
ORGANIZER;CN="Division%20C%20Director":MAILTO:divc@toastmasters123.org
END:VEVENT
BEGIN:VEVENT
DTSTART;TZID=America/New_York:20251122T100000
DTEND;TZID=America/New_York:20251122T120000
DTSTAMP:20260421T143424
CREATED:20250923T004405Z
LAST-MODIFIED:20250923T004405Z
UID:10001490-1763805600-1763812800@toastmasters123.org
SUMMARY:TLI/Club Officers Training = II
DESCRIPTION:This is an opportunity not only to fulfill the required credit for the distinguished program but also to gain insight into the roles and responsibilities of the executive. We’d like to share your experience\, list of challenges\, and achievements from the last five months. We will have smaller breakout rooms for attendees to interact with the facilitator or within their own breakout group. 
URL:https://toastmasters123.org/event/tli-club-officers-training-ii/
LOCATION:Zoom\, Ontario\, Canada
CATEGORIES:Club Officer Training,District 123 Events,Program Quality
ATTACH;FMTTYPE=image/png:https://toastmasters123.org/wp-content/uploads/2025/09/div_g_intl_speech_contest-5.png
END:VEVENT
BEGIN:VEVENT
DTSTART;TZID=America/New_York:20250827T190000
DTEND;TZID=America/New_York:20250827T203000
DTSTAMP:20260421T143424
CREATED:20250815T201511Z
LAST-MODIFIED:20250815T222804Z
UID:10001462-1756321200-1756326600@toastmasters123.org
SUMMARY:Division B Club Officer Training 2025
DESCRIPTION:Club Officer Training – Session 1: Leading with Purpose in the BeeHive \nWelcome to the first session of our Club Officer Training series! This dynamic kickoff is designed to empower Presidents\, Vice Presidents of Education\, Membership\, and Public Relations\, as well as Secretaries\, Treasurers\, and Sergeants at Arms\, with the tools\, insights\, and inspiration needed to lead their clubs to excellence. \nIn this session\, we’ll dive into: \n\nRole-Specific Responsibilities – Understand your unique leadership role and how it contributes to club success.\nGoal Setting & Success Planning – Learn how to align your club’s goals with the Distinguished Club Program.\nTeam Collaboration – Discover strategies for working together as a cohesive executive committee.\nEffective Communication & Promotion – Explore ways to engage members and attract guests through impactful PR and outreach.\n\nWhether you’re a seasoned officer or stepping into leadership for the first time\, this session will set the foundation for a rewarding term. Let’s lead with purpose\, inspire growth\, and build vibrant clubs together! \nClick Here to Register
URL:https://toastmasters123.org/event/division-b-club-officer-training-2025/
LOCATION:Zoom\, Ontario\, Canada
CATEGORIES:Club Officer Training
ATTACH;FMTTYPE=image/png:https://toastmasters123.org/wp-content/uploads/2025/08/Division-B-COT-e1755300393905.png
ORGANIZER;CN="DIvision%20B%20Director":MAILTO:divb@toastmasters123.org
END:VEVENT
BEGIN:VEVENT
DTSTART;TZID=America/New_York:20250826T190000
DTEND;TZID=America/New_York:20250826T210000
DTSTAMP:20260421T143424
CREATED:20250812T165531Z
LAST-MODIFIED:20250815T222943Z
UID:10001461-1756234800-1756242000@toastmasters123.org
SUMMARY:Division N Club Officer Training
DESCRIPTION:Training is available for all club officer roles including President\, VP Education\, VP Membership\, VP Public Relations\, Secretary\, Treasurer\, and Sergeant-at-Arms.
URL:https://toastmasters123.org/event/division-n-club-officer-training/
LOCATION:Zoom\, Ontario\, Canada
CATEGORIES:Club Officer Training,N,Program Quality
ATTACH;FMTTYPE=image/png:https://toastmasters123.org/wp-content/uploads/2025/08/Division-N-COT-e1755300569388.png
ORGANIZER;CN="Division%20N%20Director":MAILTO:divn@toastmasters123.org
END:VEVENT
BEGIN:VEVENT
DTSTART;TZID=America/New_York:20250815T183000
DTEND;TZID=America/New_York:20250815T200000
DTSTAMP:20260421T143424
CREATED:20250729T231903Z
LAST-MODIFIED:20250729T231903Z
UID:10001451-1755282600-1755288000@toastmasters123.org
SUMMARY:Division M Club Officer Training Session 1\, 2025
DESCRIPTION:Join us for Club Officer Training for: President\, VP Ed\, VP Membership\, VP PR\, Secretary\, Treasurer\, and SAA. \nDistricts must train club officers at least twice a year. First Training: Between June 1 and August 31. Clubs with officers attending training receive credit toward the training goal in the Distinguished Club Program. \nDate & Time: August 15\, 2025 – 6:30 pm to 8:00 pm\nVenue: Online via Zoom (will open from 6:15 pm) \nRegister by clicking here
URL:https://toastmasters123.org/event/division-m-club-officer-training-session-1-2025/
LOCATION:Zoom\, Ontario\, Canada
CATEGORIES:Club Officer Training,Club Support,District 123 Events,M,Program Quality
ATTACH;FMTTYPE=image/jpeg:https://toastmasters123.org/wp-content/uploads/2025/07/Division-M-Club-Officer-Training.jpg
ORGANIZER;CN="Division%20M%20Director":MAILTO:divm@toastmasters123.org
END:VEVENT
BEGIN:VEVENT
DTSTART;TZID=America/New_York:20250811T190000
DTEND;TZID=America/New_York:20250811T203000
DTSTAMP:20260421T143424
CREATED:20250729T231721Z
LAST-MODIFIED:20250729T231721Z
UID:10001450-1754938800-1754944200@toastmasters123.org
SUMMARY:Division A Club Officer Training
DESCRIPTION:Whatever role you are doing to help your club or are considering doing in the future\, we have a training session for you! Interact with experienced Toastmasters as they share their tips to make your job easier. Be more productive in helping your club grow\, have better meetings and bring more joy into your life. Become more confident and gain DCP credit; that is a Toastmasters “win-win”.
URL:https://toastmasters123.org/event/division-a-club-officer-training/
LOCATION:Zoom\, Ontario\, Canada
CATEGORIES:Club Officer Training,Club Support,District 123 Events,Program Quality
ORGANIZER;CN="Division%20A%20Director":MAILTO:diva@toastmasters123.org
END:VEVENT
BEGIN:VEVENT
DTSTART;TZID=America/New_York:20250731T180000
DTEND;TZID=America/New_York:20250731T203000
DTSTAMP:20260421T143424
CREATED:20250712T215909Z
LAST-MODIFIED:20250713T002503Z
UID:10001446-1753984800-1753993800@toastmasters123.org
SUMMARY:Division E Club Officer Training
DESCRIPTION:Are you ready to lead your Toastmasters club to new heights of success and member satisfaction? Your vital role as a club officer is key to a dynamic and thriving club experience. \nJoin us for our Comprehensive Club Officer Training specifically designed for all executive roles (President\, VPE\, VPM\, VPPR\, Secretary\, Treasurer\, SAA). This training is invaluable for both new officers eager to learn the ropes and returning officers looking to refresh their skills and discover new strategies. \nWhy Attend? This training will empower you to: \n\nMaster Your Role: Gain a clear and concise understanding of your specific officer responsibilities and how they contribute to overall club success.\nBoost Member Engagement: Learn proven techniques to attract new members\, retain existing ones\, and keep them actively involved and enthusiastic.\nAchieve Club Goals: Discover strategies for guiding your club towards achieving its Distinguished Club Program (DCP) goals and fostering a positive learning environment.\nTroubleshoot Challenges: Get insights into common club challenges and practical solutions to overcome them.\nNetwork & Collaborate: Connect with fellow officers from across [Your Division/District]\, share ideas\, and build a supportive community.\n\nWho Should Attend? \n\nAll newly elected or appointed club officers.\nCurrent officers looking for a refresher or advanced tips.\nAny Toastmaster interested in leadership roles within their club.\n\n 
URL:https://toastmasters123.org/event/division-e-club-officer-training/
LOCATION:Zoom\, Ontario\, Canada
CATEGORIES:Club Officer Training,Club Support,District 123 Events,Divisions,E,Program Quality
ATTACH;FMTTYPE=image/png:https://toastmasters123.org/wp-content/uploads/2025/07/COT-828-x-676-px-Training-generic.png
ORGANIZER;CN="Division%20E%20Director":MAILTO:dive@toastmasters123.org
END:VEVENT
BEGIN:VEVENT
DTSTART;TZID=America/New_York:20250719T113000
DTEND;TZID=America/New_York:20250719T130000
DTSTAMP:20260421T143424
CREATED:20250704T123706Z
LAST-MODIFIED:20250717T004304Z
UID:10001442-1752924600-1752930000@toastmasters123.org
SUMMARY:Division C Club Officer Training
DESCRIPTION:Club Officer Training for all the roles. President\, VP Education\, VP Membership\, VP Public Relations\, Secretary\, Treasurer\, SGT of Arms.
URL:https://toastmasters123.org/event/club-officer-training-division-c/
LOCATION:Ontario
CATEGORIES:Club Officer Training,Club Support,Divisions,Program Quality
ATTACH;FMTTYPE=image/jpeg:https://toastmasters123.org/wp-content/uploads/2025/07/IMG_2970-e1751835715955.jpeg
END:VEVENT
END:VCALENDAR