BEGIN:VCALENDAR
VERSION:2.0
PRODID:-//Toastmasters District 123 - ECPv6.2.0.1//NONSGML v1.0//EN
CALSCALE:GREGORIAN
METHOD:PUBLISH
X-WR-CALNAME:Toastmasters District 123
X-ORIGINAL-URL:https://toastmasters123.org
X-WR-CALDESC:Events for Toastmasters District 123
REFRESH-INTERVAL;VALUE=DURATION:PT1H
X-Robots-Tag:noindex
X-PUBLISHED-TTL:PT1H
BEGIN:VTIMEZONE
TZID:America/New_York
BEGIN:DAYLIGHT
TZOFFSETFROM:-0500
TZOFFSETTO:-0400
TZNAME:EDT
DTSTART:20250309T070000
END:DAYLIGHT
BEGIN:STANDARD
TZOFFSETFROM:-0400
TZOFFSETTO:-0500
TZNAME:EST
DTSTART:20251102T060000
END:STANDARD
BEGIN:DAYLIGHT
TZOFFSETFROM:-0500
TZOFFSETTO:-0400
TZNAME:EDT
DTSTART:20260308T070000
END:DAYLIGHT
BEGIN:STANDARD
TZOFFSETFROM:-0400
TZOFFSETTO:-0500
TZNAME:EST
DTSTART:20261101T060000
END:STANDARD
TZID:America/Toronto
BEGIN:DAYLIGHT
TZOFFSETFROM:-0500
TZOFFSETTO:-0400
TZNAME:EDT
DTSTART:20260308T070000
END:DAYLIGHT
BEGIN:STANDARD
TZOFFSETFROM:-0400
TZOFFSETTO:-0500
TZNAME:EST
DTSTART:20261101T060000
END:STANDARD
END:VTIMEZONE
BEGIN:VEVENT
DTSTART;VALUE=DATE:20250701
DTEND;VALUE=DATE:20260416
DTSTAMP:20260419T094812
CREATED:20250613T022150Z
LAST-MODIFIED:20250710T004334Z
UID:10001434-1751328000-1776297599@toastmasters123.org
SUMMARY:Magical 8 Member Club
DESCRIPTION:Your hard work is magical for your club and District 123!\nAll clubs who ADD 8 members (DCP 7 & DCP 8) by April 15th will become a Magical 8 Member Club! The club will receive a $25 gift certificate. \nSend submissions by April 30th to the Incentives Coordinator. Cannot be combined with any other incentive.
URL:https://toastmasters123.org/event/magical-8-member-club/
CATEGORIES:Clubs,District 123 Events,Open House
ATTACH;FMTTYPE=image/jpeg:https://toastmasters123.org/wp-content/uploads/2023/09/Open-House.jpg
END:VEVENT
BEGIN:VEVENT
DTSTART;VALUE=DATE:20260105
DTEND;VALUE=DATE:20260330
DTSTAMP:20260419T094812
CREATED:20230805T203510Z
LAST-MODIFIED:20251030T111459Z
UID:10000038-1767571200-1774828799@toastmasters123.org
SUMMARY:International Speech Contest
DESCRIPTION:Contestants present a five- to seven- minute speech on any subject they choose. All districts must conduct this contest. \n\nClubs run from contests Jan 5-Feb 1\nAreas run contests Feb 2-Mar 1\nDivisions run contests Mar 2-Mar 29\nDistrict finals at the District Spring Conference May 1-3\, 2026\nAreas with four or fewer clubs will allow 2 contestants per club.\nDivisions with four areas or fewer will allow 2 contestants per area.\nClubs determine how they conduct their own club contest.\nArea\, Division\, and District contests will be in person.\n\nPlease send any contest questions to the Contest Chair at pqd@toastmasters123.org. \nClub Contest Chairs\, please forward winner notification forms to the Area Director.\nArea Directors\, please forward winner notification forms to the Division Directors.\nDivision Directors please forward winner notification forms to the District Contest Chair\, pqd@toastmasters123.org\, as soon as the contests are completed. \nFind speech contests resources here \nSee contest dates and events \nDivision A ~ TBD | See more here\nDivision B ~ TBD | See more here\nDivision C ~ TBD ~ See more here\nDivision D ~ TBD | See more here\nDivision E ~ TBD | See more here\nDivision G ~ TBD| See more here\nDivision M ~ TBD | See more here\nDivision N ~ TBD | See more here \nPlease feel free to “Add an Event” here.  Please be prepared with the requisite rectangular 1280 x 720 image.  Thanks. \n  \n 
URL:https://toastmasters123.org/event/international-speech-contest/
CATEGORIES:Speech Contests
ATTACH;FMTTYPE=image/png:https://toastmasters123.org/wp-content/uploads/2023/08/vvContests-International.png
END:VEVENT
BEGIN:VEVENT
DTSTART;VALUE=DATE:20260201
DTEND;VALUE=DATE:20260401
DTSTAMP:20260419T094812
CREATED:20230802T184708Z
LAST-MODIFIED:20250710T010332Z
UID:10000031-1769904000-1775001599@toastmasters123.org
SUMMARY:Promote the “Talk Up Toastmasters” Membership  Contest
DESCRIPTION:Toastmasters love to connect\, so take advantage of it. The Talk Up Toastmasters membership program is the chance to encourage your members to invite guests to a special meeting where prospective members can learn about Toastmasters’ many benefits. Then add five new\, dual or reinstated members with a join date between February 1 and March 31\, and you’ll receive a special Talk up Toastmasters ribbon to display on your club’s banner. Qualifying clubs can also earn a special discount code for 10% off their next club order. (The discount code expires six months from the date of issue and is not valid with any other offer.) \nLearn more about Membership Building
URL:https://toastmasters123.org/event/promote-talk-up-toastmasters/
CATEGORIES:Clubs
ATTACH;FMTTYPE=image/png:https://toastmasters123.org/wp-content/uploads/2023/08/Talk-up-Toastmastersv.png
ORGANIZER;CN="Club%20Growth%20Director":MAILTO:cgd@toastmasters123.org
END:VEVENT
BEGIN:VEVENT
DTSTART;TZID=America/Toronto:20260324T190000
DTEND;TZID=America/Toronto:20260324T220000
DTSTAMP:20260419T094812
CREATED:20260116T025606Z
LAST-MODIFIED:20260116T025606Z
UID:10001567-1774378800-1774389600@toastmasters123.org
SUMMARY:Division E International Speech Contest
DESCRIPTION:Division E International Speech Contest\nJoin us for an inspiring showcase of the division’s top speakers as they compete for a spot at the District International Speech Contest. Expect powerful messages\, engaging storytelling\, and an evening that celebrates the spirit of Toastmasters.
URL:https://toastmasters123.org/event/division-e-international-speech-contest/
LOCATION:The Embassy Church\, 416 Taunton Rd. W.\, Oshawa\, Canada
CATEGORIES:E
ATTACH;FMTTYPE=image/jpeg:https://toastmasters123.org/wp-content/uploads/2026/01/Division-Contest.jpg
ORGANIZER;CN="Division%20E%20Director":MAILTO:dive@toastmasters123.org
END:VEVENT
BEGIN:VEVENT
DTSTART;TZID=America/Toronto:20260325T070000
DTEND;TZID=America/Toronto:20260325T213000
DTSTAMP:20260419T094812
CREATED:20260318T234631Z
LAST-MODIFIED:20260318T234631Z
UID:10001594-1774422000-1774474200@toastmasters123.org
SUMMARY:Brampton Toastmasters 69th Anniversary Gala
DESCRIPTION:The month of March 2026 is a notable milestone in club’s journey to foster communication\, leadership\, and personal growth. We complete 69 years in Brampton Community and now entering in 70th year since 1957. To mark this special occasion\, we are hosting a commemorative event to celebrate our achievements. The event is to recognize club’s long-term commitment to the International Toastmasters’ mission to ensure its future growth\, success and core values of Integrity\, Respect\, Service\, and Excellence.  This event will motivate Toastmasters to continue on their path of Leadership and Communication goals and have the positive impact in our local community
URL:https://toastmasters123.org/event/brampton-toastmasters-69th-anniversary-gala/
LOCATION:Terry Miller Recreation Centre\, 1295 Williams Parkway\, Brampton\, Ontario\, L6S 3J8\, Canada
CATEGORIES:Anniversary
ATTACH;FMTTYPE=image/jpeg:https://toastmasters123.org/wp-content/uploads/2026/03/Flyer-25th-Ln.jpg
ORGANIZER;CN="president":MAILTO:bntoastmasters@gmail.com
END:VEVENT
BEGIN:VEVENT
DTSTART;TZID=America/Toronto:20260328T160000
DTEND;TZID=America/Toronto:20260328T190000
DTSTAMP:20260419T094812
CREATED:20251214T122448Z
LAST-MODIFIED:20251214T122448Z
UID:10001551-1774713600-1774724400@toastmasters123.org
SUMMARY:Division B International Speech Contest 2026
DESCRIPTION:The Division B International Speech Contest is a premier Toastmasters event that brings together the finest speakers from across our Areas to compete at the highest level of communication and leadership excellence. Contestants deliver inspiring\, original speeches that showcase the power of storytelling\, persuasion\, and presence. \nThis contest is more than a competition—it is a celebration of voices and visions. Each speaker represents the culmination of dedication\, practice\, and growth\, offering audiences a chance to experience diverse perspectives and powerful messages. Winners will advance to the District stage\, continuing their journey toward the World Championship of Public Speaking. \nDivision B is proud to host this event as a platform for members to shine\, connect\, and inspire. It is a testament to the Toastmasters mission: empowering individuals to become more effective communicators and leaders.
URL:https://toastmasters123.org/event/division-b-international-speech-contest-2026/
CATEGORIES:Speech Contests
ATTACH;FMTTYPE=image/jpeg:https://toastmasters123.org/wp-content/uploads/2025/11/Single-Speaker-for-speech-contest-stock-photo.jpg
ORGANIZER;CN="DIvision%20B%20Director":MAILTO:divb@toastmasters123.org
END:VEVENT
BEGIN:VEVENT
DTSTART;TZID=America/Toronto:20260329T160000
DTEND;TZID=America/Toronto:20260329T180000
DTSTAMP:20260419T094812
CREATED:20251221T053019Z
LAST-MODIFIED:20260316T234844Z
UID:10001557-1774800000-1774807200@toastmasters123.org
SUMMARY:Division M International Speech Contest
DESCRIPTION:In this event winners from the area contest winner showcase their speech skill to becoming the Division Champion.
URL:https://toastmasters123.org/event/division-m-international-speech-contest/
LOCATION:The Mul Raj Sethi Room\, Bayview Hill Community Centre\, 114 Spadina Road\, Richmond Hill\, Ontario\, Canada
CATEGORIES:District 123 Events,Divisions,M,Speech Contests
ATTACH;FMTTYPE=image/jpeg:https://toastmasters123.org/wp-content/uploads/2025/11/Single-Speaker-for-speech-contest-stock-photo.jpg
ORGANIZER;CN="Division%20M%20Director":MAILTO:divm@toastmasters123.org
END:VEVENT
BEGIN:VEVENT
DTSTART;TZID=America/Toronto:20260331T192500
DTEND;TZID=America/Toronto:20260331T210000
DTSTAMP:20260419T094812
CREATED:20260329T163706Z
LAST-MODIFIED:20260329T163706Z
UID:10001596-1774985100-1774990800@toastmasters123.org
SUMMARY:Brooklin Toastmasters Open House
DESCRIPTION:Brooklin Toastmasters is holding an Open House on Tuesday\, March 31st 7:25 pm. Toastmasters and guests are welcome. \nWe are in North Whitby at The Court and Brooklin\, 5909 Anderson St. Parking is at the rear of the building\, then come in the main door and follow the signs.
URL:https://toastmasters123.org/event/brooklin-toastmasters-open-house/
LOCATION:The Court at Brooklin\, 5909 Anderson St.\,\, Whitby\, Ontario\, L1M 2H1\, Canada
CATEGORIES:Open House
ATTACH;FMTTYPE=image/png:https://toastmasters123.org/wp-content/uploads/2026/03/Brooklin-Toastmasters-Open-House-2026-03-31-1920x1080-1.png
END:VEVENT
BEGIN:VEVENT
DTSTART;TZID=America/Toronto:20260412T130000
DTEND;TZID=America/Toronto:20260412T160000
DTSTAMP:20260419T094812
CREATED:20260220T023636Z
LAST-MODIFIED:20260220T023636Z
UID:10001584-1775998800-1776009600@toastmasters123.org
SUMMARY:Division N International Speech Contest
DESCRIPTION:Division N International Speech Contest
URL:https://toastmasters123.org/event/division-n-international-speech-contest/
LOCATION:The Parkside Centre\, 140 Durham Street\, Sudbury\, Ontario\, Canada
CATEGORIES:N
ATTACH;FMTTYPE=image/jpeg:https://toastmasters123.org/wp-content/uploads/2026/02/Division-N-International-Speech-Contest.jpg
ORGANIZER;CN="Division%20N%20Director":MAILTO:divn@toastmasters123.org
END:VEVENT
BEGIN:VEVENT
DTSTART;TZID=America/Toronto:20260415T183000
DTEND;TZID=America/Toronto:20260415T193000
DTSTAMP:20260419T094812
CREATED:20260412T030634Z
LAST-MODIFIED:20260412T030634Z
UID:10001599-1776277800-1776281400@toastmasters123.org
SUMMARY:Pathways Base Camp Primer
DESCRIPTION:Develop a friendship with Base Camp!
URL:https://toastmasters123.org/event/pathways-base-camp-primer/
CATEGORIES:Pathways
ATTACH;FMTTYPE=image/png:https://toastmasters123.org/wp-content/uploads/2026/04/cPathways-Base-Camp-Primer.png
ORGANIZER;CN="Tony%20Nelson":MAILTO:irish1277@gmail.com
END:VEVENT
BEGIN:VEVENT
DTSTART;VALUE=DATE:20260420
DTEND;VALUE=DATE:20260623
DTSTAMP:20260419T094812
CREATED:20260418T172852Z
LAST-MODIFIED:20260418T192746Z
UID:10001604-1776643200-1782172799@toastmasters123.org
SUMMARY:Time Limited Additional Club Growth Director’s Special Bonus Incentive!!!
DESCRIPTION:Time Limited Special Bonus Offer \nBuild your club reap the rewards \nDistrict 123 Year End Bonus \nAdditional Club Growth Director’s Special Bonus Incentive!!! \nNew Voices. New Energy. New Growth. \n“Every member adds magic.” \n“Invite. Inspire. Ignite.” \nGrow by Five—Keep the Club Alive… \nFive will get you $50 \nGain 5 more members between April 20 and June 22\, 2026\, \nGet a $50 TI Gift Certificate \nMembers must show as a paid member on the Toastmasters International reports by June 22\, 2026
URL:https://toastmasters123.org/event/time-limited-additional-club-growth-directors-special-bonus-incentive/
LOCATION:Your Club\, Canada
CATEGORIES:Club Growth,Club Growth,Club Support,District 123 Events
ATTACH;FMTTYPE=image/jpeg:https://toastmasters123.org/wp-content/uploads/2026/04/5-will-get-you-50-vs2.jpg
ORGANIZER;CN="Club%20Growth%20Director":MAILTO:cgd@toastmasters123.org
END:VEVENT
BEGIN:VEVENT
DTSTART;TZID=America/Toronto:20260420T120000
DTEND;TZID=America/Toronto:20260420T130000
DTSTAMP:20260419T094812
CREATED:20260412T030643Z
LAST-MODIFIED:20260418T192113Z
UID:10001600-1776686400-1776690000@toastmasters123.org
SUMMARY:Pathways Base Camp Primer
DESCRIPTION:Develop a friendship with Base Camp!
URL:https://toastmasters123.org/event/pathways-base-camp-primer-2/
CATEGORIES:District 123 Events,Pathways,Program Quality,Workshops
ATTACH;FMTTYPE=image/png:https://toastmasters123.org/wp-content/uploads/2026/04/cPathways-Base-Camp-Primer-1.png
ORGANIZER;CN="Tony%20Nelson":MAILTO:irish1277@gmail.com
END:VEVENT
BEGIN:VEVENT
DTSTART;TZID=America/Toronto:20260422T120000
DTEND;TZID=America/Toronto:20260422T130000
DTSTAMP:20260419T094812
CREATED:20260412T030650Z
LAST-MODIFIED:20260418T192144Z
UID:10001601-1776859200-1776862800@toastmasters123.org
SUMMARY:Pathways Base Camp Primer
DESCRIPTION:Develop a friendship with Base Camp!
URL:https://toastmasters123.org/event/pathways-base-camp-primer-3/
CATEGORIES:District 123 Events,Pathways,Program Quality,Workshops
ATTACH;FMTTYPE=image/png:https://toastmasters123.org/wp-content/uploads/2026/04/cPathways-Base-Camp-Primer-2.png
ORGANIZER;CN="Tony%20Nelson":MAILTO:irish1277@gmail.com
END:VEVENT
BEGIN:VEVENT
DTSTART;TZID=America/Toronto:20260423T183000
DTEND;TZID=America/Toronto:20260423T193000
DTSTAMP:20260419T094812
CREATED:20260412T030656Z
LAST-MODIFIED:20260418T192204Z
UID:10001602-1776969000-1776972600@toastmasters123.org
SUMMARY:Pathways Base Camp Primer
DESCRIPTION:Develop a friendship with Base Camp!
URL:https://toastmasters123.org/event/pathways-base-camp-primer-4/
CATEGORIES:District 123 Events,Pathways,Program Quality,Workshops
ATTACH;FMTTYPE=image/png:https://toastmasters123.org/wp-content/uploads/2026/04/cPathways-Base-Camp-Primer-3.png
ORGANIZER;CN="Tony%20Nelson":MAILTO:irish1277@gmail.com
END:VEVENT
BEGIN:VEVENT
DTSTART;TZID=America/Toronto:20260423T190000
DTEND;TZID=America/Toronto:20260423T210000
DTSTAMP:20260419T094812
CREATED:20260315T012145Z
LAST-MODIFIED:20260418T192713Z
UID:10001593-1776970800-1776978000@toastmasters123.org
SUMMARY:Bolton Banter Toastmasters 20th Anniversary Celebration
DESCRIPTION:Click to Register. https://www.zeffy.com/en-CA/ticketing/bolton-banter-20th-anniversary \n🎉 Excitement is in the air! Get ready to be part of something extraordinary at Bolton Banter Toastmasters. \nBolton Banter Toastmasters has been helping Caledon and surrounding residents to build leadership and communication skills \nfor 20 years!  We are celebrating this amazing journey with light refreshments\, and speeches. \nJoin us and see how Toastmasters has helped Caledon grow amazing leaders and public speakers.
URL:https://toastmasters123.org/event/bolton-banter-toastmasters-20th-anniversary-celebration/
LOCATION:Humber River Centre\, 28 Ann St\, Bolton\, Ontario\, L7E 1B9\, Canada
CATEGORIES:Anniversary,District 123 Events
ATTACH;FMTTYPE=image/png:https://toastmasters123.org/wp-content/uploads/2026/03/BBAnniv2926.png
END:VEVENT
BEGIN:VEVENT
DTSTART;VALUE=DATE:20260501
DTEND;VALUE=DATE:20260701
DTSTAMP:20260419T094812
CREATED:20230802T185549Z
LAST-MODIFIED:20260418T192658Z
UID:10000033-1777593600-1782863999@toastmasters123.org
SUMMARY:Promote the “Beat the Clock” Membership  Contest
DESCRIPTION:Toastmasters are taught to run meetings on time\, finish speeches on time and reach membership goals on time. In that spirit\, Beat the Clock is a great motivator for finishing the year on schedule—on time and with record numbers! Make it your club’s goal to earn the Beat the Clock award and encourage every member to take part. Clubs adding five new\, dual or reinstated members with a join date between May 1 and June 30 receive a Beat the Clock ribbon to display on the club’s banner. Applications and payments for members with a join date between May 1 and June 30 must be received at World Headquarters or online no later than June 30. The addition of transfer and charter members does not count toward Beat the Clock credit. Learn more about Membership Building
URL:https://toastmasters123.org/event/promote-beat-the-club/
CATEGORIES:Clubs,District 123 Events
ATTACH;FMTTYPE=image/png:https://toastmasters123.org/wp-content/uploads/2023/08/Beat-the-Clock.png
ORGANIZER;CN="Club%20Growth%20Director":MAILTO:cgd@toastmasters123.org
END:VEVENT
BEGIN:VEVENT
DTSTART;TZID=America/New_York:20260501T160000
DTEND;TZID=America/New_York:20260503T160000
DTSTAMP:20260419T094812
CREATED:20250113T202053Z
LAST-MODIFIED:20260205T032724Z
UID:10001072-1777651200-1777824000@toastmasters123.org
SUMMARY:2026 District 123 Annual Conference
DESCRIPTION:
URL:https://toastmasters123.org/event/2026-district-123-conference/
LOCATION:SpringHill Suites by Marriott Toronto Vaughan\, 612 Applewood Crescent\, Vaughan\, Ontario\, L4K 4B4\, Canada
CATEGORIES:A,B,C,District 123 Events,Division,E,M,N,Speech Contests
ATTACH;FMTTYPE=image/png:https://toastmasters123.org/wp-content/uploads/2025/01/D123_Conference_May_2026-e1765719266221.png
ORGANIZER;CN="Conference%20Chair":MAILTO:conference@toastmasters123.org
END:VEVENT
BEGIN:VEVENT
DTSTART;TZID=America/New_York:20260502T153000
DTEND;TZID=America/New_York:20260502T173000
DTSTAMP:20260419T094812
CREATED:20250829T224309Z
LAST-MODIFIED:20260205T032644Z
UID:10001471-1777735800-1777743000@toastmasters123.org
SUMMARY:District Council Annual Business Meeting (AGM)
DESCRIPTION:The District Council shall consist of Club Presidents\, and Vice Presidents Education of Clubs in Good Standing\, plus District Executive Committee members\, including District Director\, Program Quality Director\, Club Growth Director\, Public Relations Manager\, Administration Manager\, Finance Manager\, Immediate Past District Director\, Division Directors\, and Area Directors.\n				 \n\n					The District shall hold at least two (2) meetings a year\, one (1) of which shall be the Annual Meeting held before June 1 for the election of District officers. Quorum will be determined by the number of club representatives in attendance.\n				 \n\nMeeting Information\n\n					Meeting Guidelines and Procedures\nDistrict 123 Procedures \n \n				 \n\n					Location\nHybrid\, Location to be advised Address to be advised\, the Zoom Link is provided to registered District Council members and authorized attendees. \nAgenda\, Previous Meeting Minutes to Adopt & Registration Link\nThe registration link is emailed to District Council members and authorized attendees at least 4 weeks in advance of the Annual Business meeting. \nAgenda and previous meeting minutes will be provided at least two weeks prior to meeting. \nMeeting Minutes\nFinal Minutes will be emailed to District Council members up to one week after the meeting. \n				 \n\n\n\n					Contact District Director\nIf you have any questions or concerns\, please send them via this form
URL:https://toastmasters123.org/event/district-council-annual-business-meeting-agm/
CATEGORIES:District 123 Events,District Council
ATTACH;FMTTYPE=image/jpeg:https://toastmasters123.org/wp-content/uploads/2024/07/District-Council-Annual-Business-Meeting.jpg
ORGANIZER;CN="District%20Director":MAILTO:dd@toastmasters123.org
END:VEVENT
BEGIN:VEVENT
DTSTART;TZID=America/New_York:20260712T110000
DTEND;TZID=America/New_York:20260712T160000
DTSTAMP:20260419T094812
CREATED:20250729T233101Z
LAST-MODIFIED:20251111T015114Z
UID:10001453-1783854000-1783872000@toastmasters123.org
SUMMARY:Year end DEC & Recognition picnic 2025-26
DESCRIPTION:The outgoing District Director celebrates the accomplishments of the District Executive Committee and recognizes members for their efforts. More details to come! (location\, registration link). Event is for the District leadership team 2025-2026. Date is subject to change.
URL:https://toastmasters123.org/event/year-end-dec-recognition-picnic-2025-26/
CATEGORIES:District 123 Events
ATTACH;FMTTYPE=image/jpeg:https://toastmasters123.org/wp-content/uploads/2023/07/Toastmasters-Event-Grad.jpg
ORGANIZER;CN="District%20Director":MAILTO:dd@toastmasters123.org
END:VEVENT
END:VCALENDAR