BEGIN:VCALENDAR
VERSION:2.0
PRODID:-//Toastmasters District 123 - ECPv6.2.0.1//NONSGML v1.0//EN
CALSCALE:GREGORIAN
METHOD:PUBLISH
X-WR-CALNAME:Toastmasters District 123
X-ORIGINAL-URL:https://toastmasters123.org
X-WR-CALDESC:Events for Toastmasters District 123
REFRESH-INTERVAL;VALUE=DURATION:PT1H
X-Robots-Tag:noindex
X-PUBLISHED-TTL:PT1H
BEGIN:VTIMEZONE
TZID:America/New_York
BEGIN:DAYLIGHT
TZOFFSETFROM:-0500
TZOFFSETTO:-0400
TZNAME:EDT
DTSTART:20260308T070000
END:DAYLIGHT
BEGIN:STANDARD
TZOFFSETFROM:-0400
TZOFFSETTO:-0500
TZNAME:EST
DTSTART:20261101T060000
END:STANDARD
END:VTIMEZONE
BEGIN:VEVENT
DTSTART;TZID=America/New_York:20260501T160000
DTEND;TZID=America/New_York:20260503T160000
DTSTAMP:20260423T050251
CREATED:20250113T202053Z
LAST-MODIFIED:20260205T032724Z
UID:10001072-1777651200-1777824000@toastmasters123.org
SUMMARY:2026 District 123 Annual Conference
DESCRIPTION:
URL:https://toastmasters123.org/event/2026-district-123-conference/
LOCATION:SpringHill Suites by Marriott Toronto Vaughan\, 612 Applewood Crescent\, Vaughan\, Ontario\, L4K 4B4\, Canada
CATEGORIES:A,B,C,District 123 Events,Division,E,M,N,Speech Contests
ATTACH;FMTTYPE=image/png:https://toastmasters123.org/wp-content/uploads/2025/01/D123_Conference_May_2026-e1765719266221.png
ORGANIZER;CN="Conference%20Chair":MAILTO:conference@toastmasters123.org
END:VEVENT
BEGIN:VEVENT
DTSTART;TZID=America/New_York:20260712T110000
DTEND;TZID=America/New_York:20260712T160000
DTSTAMP:20260423T050251
CREATED:20250729T233101Z
LAST-MODIFIED:20251111T015114Z
UID:10001453-1783854000-1783872000@toastmasters123.org
SUMMARY:Year end DEC & Recognition picnic 2025-26
DESCRIPTION:The outgoing District Director celebrates the accomplishments of the District Executive Committee and recognizes members for their efforts. More details to come! (location\, registration link). Event is for the District leadership team 2025-2026. Date is subject to change.
URL:https://toastmasters123.org/event/year-end-dec-recognition-picnic-2025-26/
LOCATION:Ontario
CATEGORIES:District 123 Events
ATTACH;FMTTYPE=image/jpeg:https://toastmasters123.org/wp-content/uploads/2023/07/Toastmasters-Event-Grad.jpg
ORGANIZER;CN="District%20Director":MAILTO:dd@toastmasters123.org
END:VEVENT
END:VCALENDAR