BEGIN:VCALENDAR
VERSION:2.0
PRODID:-//Toastmasters District 123 - ECPv6.2.0.1//NONSGML v1.0//EN
CALSCALE:GREGORIAN
METHOD:PUBLISH
X-ORIGINAL-URL:https://toastmasters123.org
X-WR-CALDESC:Events for Toastmasters District 123
REFRESH-INTERVAL;VALUE=DURATION:PT1H
X-Robots-Tag:noindex
X-PUBLISHED-TTL:PT1H
BEGIN:VTIMEZONE
TZID:America/New_York
BEGIN:DAYLIGHT
TZOFFSETFROM:-0500
TZOFFSETTO:-0400
TZNAME:EDT
DTSTART:20250309T070000
END:DAYLIGHT
BEGIN:STANDARD
TZOFFSETFROM:-0400
TZOFFSETTO:-0500
TZNAME:EST
DTSTART:20251102T060000
END:STANDARD
END:VTIMEZONE
BEGIN:VEVENT
DTSTART;TZID=America/New_York:20250807T190000
DTEND;TZID=America/New_York:20250807T210000
DTSTAMP:20260422T071626
CREATED:20250731T022129Z
LAST-MODIFIED:20250731T022129Z
UID:10001455-1754593200-1754600400@toastmasters123.org
SUMMARY:Innisfil Toastmasters - Extemporaneous Speak-a-thon
DESCRIPTION:Innisfil Toastmasters presents…”Extemporaneous Speak-a-thon”\nWednesday\, August 7thDoors open at 7:00 PMMeeting starts sharp at 7:30 PMGuests Always Welcome!\n\nGet ready for a night of laughs\, quick wit\, and surprising insights! Our Extemporaneous Speak-a-thon is one of the most exciting events of the Toastmasters calendar—where speakers are challenged to deliver 1–2 minute speeches with no script and no time to prep. It’s a true test of creativity\, courage\, and communication.\nSpeakers will draw random prompts ranging from the light-hearted to the thought-provoking. Whether you’re reflecting on your favourite sandwich or pondering the ethics of time travel\, this night is all about thinking fast and speaking boldly.\nGuests can even help judge the action! And yes—guests are welcome to join in the fun\, if you’re feeling brave!\n\nIf you’ve ever wanted to sharpen your spontaneity\, or just enjoy a night of unexpected brilliance\, this is the meeting for you.\nBring your voice\, bring your curiosity\, and bring a friend!
URL:https://toastmasters123.org/event/innisfil-toastmasters-extemporaneous-speak-a-thon/
LOCATION:Innisfil Community Church\, 1571 Innisfil Beach Road\, Innisfil\, Ontario\, L0L1W0\, Canada
CATEGORIES:Clubs
ATTACH;FMTTYPE=image/png:https://toastmasters123.org/wp-content/uploads/2025/07/Innisfil-Toastmasters-August-7-2025.png
ORGANIZER;CN="Innisfil%20Toastmasters":MAILTO:innisfiltm@gmail.com
END:VEVENT
BEGIN:VEVENT
DTSTART;TZID=America/New_York:20250731T180000
DTEND;TZID=America/New_York:20250731T203000
DTSTAMP:20260422T071626
CREATED:20250712T215909Z
LAST-MODIFIED:20250713T002503Z
UID:10001446-1753984800-1753993800@toastmasters123.org
SUMMARY:Division E Club Officer Training
DESCRIPTION:Are you ready to lead your Toastmasters club to new heights of success and member satisfaction? Your vital role as a club officer is key to a dynamic and thriving club experience. \nJoin us for our Comprehensive Club Officer Training specifically designed for all executive roles (President\, VPE\, VPM\, VPPR\, Secretary\, Treasurer\, SAA). This training is invaluable for both new officers eager to learn the ropes and returning officers looking to refresh their skills and discover new strategies. \nWhy Attend? This training will empower you to: \n\nMaster Your Role: Gain a clear and concise understanding of your specific officer responsibilities and how they contribute to overall club success.\nBoost Member Engagement: Learn proven techniques to attract new members\, retain existing ones\, and keep them actively involved and enthusiastic.\nAchieve Club Goals: Discover strategies for guiding your club towards achieving its Distinguished Club Program (DCP) goals and fostering a positive learning environment.\nTroubleshoot Challenges: Get insights into common club challenges and practical solutions to overcome them.\nNetwork & Collaborate: Connect with fellow officers from across [Your Division/District]\, share ideas\, and build a supportive community.\n\nWho Should Attend? \n\nAll newly elected or appointed club officers.\nCurrent officers looking for a refresher or advanced tips.\nAny Toastmaster interested in leadership roles within their club.\n\n 
URL:https://toastmasters123.org/event/division-e-club-officer-training/
LOCATION:Zoom\, Ontario\, Canada
CATEGORIES:Club Officer Training,Club Support,District 123 Events,Divisions,E,Program Quality
ATTACH;FMTTYPE=image/png:https://toastmasters123.org/wp-content/uploads/2025/07/COT-828-x-676-px-Training-generic.png
ORGANIZER;CN="Division%20E%20Director":MAILTO:dive@toastmasters123.org
END:VEVENT
BEGIN:VEVENT
DTSTART;TZID=America/New_York:20250719T113000
DTEND;TZID=America/New_York:20250719T130000
DTSTAMP:20260422T071626
CREATED:20250704T123706Z
LAST-MODIFIED:20250717T004304Z
UID:10001442-1752924600-1752930000@toastmasters123.org
SUMMARY:Division C Club Officer Training
DESCRIPTION:Club Officer Training for all the roles. President\, VP Education\, VP Membership\, VP Public Relations\, Secretary\, Treasurer\, SGT of Arms.
URL:https://toastmasters123.org/event/club-officer-training-division-c/
CATEGORIES:Club Officer Training,Club Support,Divisions,Program Quality
ATTACH;FMTTYPE=image/jpeg:https://toastmasters123.org/wp-content/uploads/2025/07/IMG_2970-e1751835715955.jpeg
END:VEVENT
BEGIN:VEVENT
DTSTART;TZID=America/New_York:20250717T193000
DTEND;TZID=America/New_York:20250717T210000
DTSTAMP:20260422T071626
CREATED:20250705T035011Z
LAST-MODIFIED:20250705T035011Z
UID:10001443-1752780600-1752786000@toastmasters123.org
SUMMARY:Innisfil Toastmasters - "Life is a Bowl of Cherries"
DESCRIPTION:Innisfil Toastmasters Presents: “Life is a Bowl of Cherries” Thursday\, July 17thDoors open at 7:00 PMMeeting begins promptly at 7:30 PMGuests Always Welcome!\n\nHybrid meeting – Zoom link is: https://us02web.zoom.us/j/87443133719 \nJoin us for a vibrant evening of stories that celebrate the sweet and the tart moments of life. Just like a bowl of cherries\, life serves us laughter\, lessons\, surprises—and the occasional pit! At this meeting\, we embrace it all. \nCelebrate the ups and downs of life with storytelling!Whether humorous\, heartfelt\, or eye-opening\, these stories offer the kind of perspective that connects us. This evening will be filled with speeches and impromptu reflections that show how vulnerability and humour go hand in hand with growth.\nA member once shared a story about tripping on stage during a school performance—and the standing ovation that followed when she got up\, smiled\, and kept going. That story\, though embarrassing in the moment\, became her favourite tale to tell. Why? Because it reminded her (and us) that bouncing back is often more powerful than being perfect.\nWhether you’re here to speak\, to listen\, or to cheer someone on\, there’s a seat for you.Come experience the power of storytelling\, and maybe even share a cherry-picked moment of your own.
URL:https://toastmasters123.org/event/innisfil-toastmasters-life-is-a-bowl-of-cherries/
LOCATION:Innisfil Community Church\, 1571 Innisfil Beach Road\, Innisfil\, Ontario\, L0L1W0\, Canada
CATEGORIES:Clubs
ATTACH;FMTTYPE=image/png:https://toastmasters123.org/wp-content/uploads/2025/07/Innisfil-Toastmasters-July-17-2025.png
ORGANIZER;CN="Innisfil%20Toastmasters":MAILTO:innisfiltm@gmail.com
END:VEVENT
BEGIN:VEVENT
DTSTART;TZID=America/New_York:20250713T110000
DTEND;TZID=America/New_York:20250713T160000
DTSTAMP:20260422T071626
CREATED:20250528T214854Z
LAST-MODIFIED:20250528T215351Z
UID:10001429-1752404400-1752422400@toastmasters123.org
SUMMARY:Year end DEC & Recognition picnic
DESCRIPTION:The outgoing District Director celebrates the accomplishments of the District Executive Committee and recognizes members for their efforts. More details to come! (location\, registration link). Event is for the District leadership team 2024-2025.
URL:https://toastmasters123.org/event/year-end-dec-recognition-picnic/
CATEGORIES:District 123 Events
ATTACH;FMTTYPE=image/png:https://toastmasters123.org/wp-content/uploads/2025/05/End-of-Year-DEC-Appreciation.png
ORGANIZER;CN="District%20Director":MAILTO:dd@toastmasters123.org
END:VEVENT
END:VCALENDAR