BEGIN:VCALENDAR
VERSION:2.0
PRODID:-//Toastmasters District 123 - ECPv6.2.0.1//NONSGML v1.0//EN
CALSCALE:GREGORIAN
METHOD:PUBLISH
X-WR-CALNAME:Toastmasters District 123
X-ORIGINAL-URL:https://toastmasters123.org
X-WR-CALDESC:Events for Toastmasters District 123
REFRESH-INTERVAL;VALUE=DURATION:PT1H
X-Robots-Tag:noindex
X-PUBLISHED-TTL:PT1H
BEGIN:VTIMEZONE
TZID:America/New_York
BEGIN:DAYLIGHT
TZOFFSETFROM:-0500
TZOFFSETTO:-0400
TZNAME:EDT
DTSTART:20250309T070000
END:DAYLIGHT
BEGIN:STANDARD
TZOFFSETFROM:-0400
TZOFFSETTO:-0500
TZNAME:EST
DTSTART:20251102T060000
END:STANDARD
END:VTIMEZONE
BEGIN:VEVENT
DTSTART;TZID=America/New_York:20250713T110000
DTEND;TZID=America/New_York:20250713T160000
DTSTAMP:20260420T033718
CREATED:20250528T214854Z
LAST-MODIFIED:20250528T215351Z
UID:10001429-1752404400-1752422400@toastmasters123.org
SUMMARY:Year end DEC & Recognition picnic
DESCRIPTION:The outgoing District Director celebrates the accomplishments of the District Executive Committee and recognizes members for their efforts. More details to come! (location\, registration link). Event is for the District leadership team 2024-2025.
URL:https://toastmasters123.org/event/year-end-dec-recognition-picnic/
LOCATION:Ontario
CATEGORIES:District 123 Events
ATTACH;FMTTYPE=image/png:https://toastmasters123.org/wp-content/uploads/2025/05/End-of-Year-DEC-Appreciation.png
ORGANIZER;CN="District%20Director":MAILTO:dd@toastmasters123.org
END:VEVENT
BEGIN:VEVENT
DTSTART;VALUE=DATE:20250701
DTEND;VALUE=DATE:20251001
DTSTAMP:20260420T033718
CREATED:20230917T012207Z
LAST-MODIFIED:20250613T021101Z
UID:10000078-1751328000-1759276799@toastmasters123.org
SUMMARY:Open House Challenge!
DESCRIPTION:Clubs that run an Open House between Jul 1 – Sept 30 and add 3+ new members within 4 weeks of the event will receive $25 a TI gift certificate. \nClubs must send copy of flyer\, and membership list before and after the open house\, to be received by October 15th. Can not be combined with any other incentive. Send questions and incentive submissions to incentives@toastmasters123.org \nCheck out all Club Growth Incentives at https://toastmasters123.org/club-growth/#awards
URL:https://toastmasters123.org/event/open-house-challenge/
LOCATION:Ontario
CATEGORIES:Club Growth,Incentives
ATTACH;FMTTYPE=image/jpeg:https://toastmasters123.org/wp-content/uploads/2023/09/Open-House-Challenge.jpg
ORGANIZER;CN="Club%20Growth%20Director":MAILTO:cgd@toastmasters123.org
END:VEVENT
BEGIN:VEVENT
DTSTART;TZID=America/New_York:20250701T000000
DTEND;TZID=America/New_York:20250930T000000
DTSTAMP:20260420T033718
CREATED:20250710T010221Z
LAST-MODIFIED:20250831T013138Z
UID:10001445-1751328000-1759190400@toastmasters123.org
SUMMARY:Deadline to submit membership dues online to TI
DESCRIPTION:Your renewal payment is due twice a year\, on April 1 and October 1.\nTo remain in good standing and maintain access to Base Camp\, dues payment must be received by World Headquarters on or before September 30.\nAs of August 4\, 2025\, Toastmasters International is required to charge sales tax on membership dues ($60.00 USD)\, new member fees ($20.00 USD)\, and items from the shop. Sales tax is based on your residential address. e.g. ON HST 13%\nRenewal Deal: If you renew before August 4\, you can renew up to 2 dues renewal periods without sales tax charged. (paid to September 30\, 2026)
URL:https://toastmasters123.org/event/deadline-to-submit-membership-dues-online-to-ti/
LOCATION:Ontario
ATTACH;FMTTYPE=image/png:https://toastmasters123.org/wp-content/uploads/2023/03/Paying-Dues-deadline.png
END:VEVENT
END:VCALENDAR