BEGIN:VCALENDAR
VERSION:2.0
PRODID:-//Toastmasters District 123 - ECPv6.2.0.1//NONSGML v1.0//EN
CALSCALE:GREGORIAN
METHOD:PUBLISH
X-ORIGINAL-URL:https://toastmasters123.org
X-WR-CALDESC:Events for Toastmasters District 123
REFRESH-INTERVAL;VALUE=DURATION:PT1H
X-Robots-Tag:noindex
X-PUBLISHED-TTL:PT1H
BEGIN:VTIMEZONE
TZID:America/Toronto
BEGIN:DAYLIGHT
TZOFFSETFROM:-0500
TZOFFSETTO:-0400
TZNAME:EDT
DTSTART:20250309T070000
END:DAYLIGHT
BEGIN:STANDARD
TZOFFSETFROM:-0400
TZOFFSETTO:-0500
TZNAME:EST
DTSTART:20251102T060000
END:STANDARD
BEGIN:DAYLIGHT
TZOFFSETFROM:-0500
TZOFFSETTO:-0400
TZNAME:EDT
DTSTART:20260308T070000
END:DAYLIGHT
BEGIN:STANDARD
TZOFFSETFROM:-0400
TZOFFSETTO:-0500
TZNAME:EST
DTSTART:20261101T060000
END:STANDARD
TZID:America/New_York
BEGIN:DAYLIGHT
TZOFFSETFROM:-0500
TZOFFSETTO:-0400
TZNAME:EDT
DTSTART:20250309T070000
END:DAYLIGHT
BEGIN:STANDARD
TZOFFSETFROM:-0400
TZOFFSETTO:-0500
TZNAME:EST
DTSTART:20251102T060000
END:STANDARD
END:VTIMEZONE
BEGIN:VEVENT
DTSTART;TZID=America/Toronto:20260206T173000
DTEND;TZID=America/Toronto:20260206T200000
DTSTAMP:20260419T120048
CREATED:20260124T164346Z
LAST-MODIFIED:20260124T164346Z
UID:10001571-1770399000-1770408000@toastmasters123.org
SUMMARY:Area C64 International Speech Contest
DESCRIPTION:Ladies and Gentlemen\, please join us for our Area C64 International Speech Contest. An evening of fun and learning as we listen to interesting speeches and laud our contestants in the Area C64 International Speech Contest. \nHeld at CIBC Square\, 81 Bay St.\, Toronto\, ON M5J 0E7 on the 12th floor Room 1201 on February\, 2026\, from 5:30pm – 8pm. \nTo attend this contest please email areac64@toastmasters123.org\, with your name\, phone number & Email so you can be emailed a guest pass close to the contest date
URL:https://toastmasters123.org/event/area-c64-international-speech-contest/
LOCATION:CIBC Square\, Room 2201\, 22nd Floor\, 81 Bay St. Toronto\, CIBC Square\, Room 2201\, 22nd Floor\, 81 Bay St.\, Toronto\, Ontario\, M5J 0E7\, Canada
ATTACH;FMTTYPE=image/jpeg:https://toastmasters123.org/wp-content/uploads/2026/01/64poster_2.jpg
ORGANIZER;CN="Area%2064%20Director":MAILTO:areac64@toastmasters123.org
END:VEVENT
BEGIN:VEVENT
DTSTART;TZID=America/Toronto:20260203T193000
DTEND;TZID=America/Toronto:20260203T203000
DTSTAMP:20260419T120048
CREATED:20260124T164427Z
LAST-MODIFIED:20260124T164427Z
UID:10001572-1770147000-1770150600@toastmasters123.org
SUMMARY:Area E84 International Speech Contest
DESCRIPTION:Toastmasters Area E84 International Speech Contest \n\nBelleville Toastmasters is proud to host the Area E84 International Speech Contest. Join us for an exciting event where top speakers from across Area E84 deliver inspiring\, thought-provoking speeches as they compete for a chance to advance to the next level.\n\nWhether you’re a Toastmaster or a guest\, come enjoy an evening of exceptional communication\, leadership\, and support for our contestants. Guests are welcome!
URL:https://toastmasters123.org/event/area-e84-international-speech-contest/
LOCATION:St. Thomas Anglican Church Belleville\, 201 Church Street\, Belleville\, Ontario\, K8N 5P2\, Canada
CATEGORIES:Areas,Speech Contests
ATTACH;FMTTYPE=image/jpeg:https://toastmasters123.org/wp-content/uploads/2026/01/IMG_4569.jpeg
ORGANIZER;CN="Area%20E84%20Director":MAILTO:mailto:AreaE84@toastmasters123.org
END:VEVENT
BEGIN:VEVENT
DTSTART;TZID=America/Toronto:20260202T190000
DTEND;TZID=America/Toronto:20260202T200000
DTSTAMP:20260419T120048
CREATED:20260124T215017Z
LAST-MODIFIED:20260127T174025Z
UID:10001573-1770058800-1770062400@toastmasters123.org
SUMMARY:D123 Club Growth Directors Workshop Series Member Acquisition and Retention Phase 1-2-3 Series
DESCRIPTION:Member Acquisition and Retention Phase 1-2-3 Series \nInteractive workshop that will provide the perfect tools to bring in new members and keep your existing club healthy! \nSession 1 Acquisition Mon Feb\, 2 2026 at 7pm ET \nOn Zoom https://us06web.zoom.us/meeting/register/bOGzllnvTF2jJgafc-4Sog  \nSession 2 Onboarding Feb 23 and Session 3 &4 Retention Mar 5 & Mar 12 zoom linkto follow. Stay tuned
URL:https://toastmasters123.org/event/d123-club-growth-directors-workshop-series-member-acquisition-and-retention-phase-1-2-3-series/
LOCATION:Zoom\, Ontario\, Canada
CATEGORIES:Club Growth
ATTACH;FMTTYPE=image/png:https://toastmasters123.org/wp-content/uploads/2026/01/Acquisition-Retention-2026.png
ORGANIZER;CN="cgd":MAILTO:cgd@toastmasters.org
END:VEVENT
BEGIN:VEVENT
DTSTART;TZID=America/Toronto:20260123T190000
DTEND;TZID=America/Toronto:20260123T210000
DTSTAMP:20260419T120048
CREATED:20260124T164201Z
LAST-MODIFIED:20260124T164201Z
UID:10001569-1769194800-1769202000@toastmasters123.org
SUMMARY:Raising Champions Advanced Toastmasters International Speech Contest
DESCRIPTION:Raising Champions Advanced Toastmasters (RCAT) invites you to a night of World Class Speakers on Friday\, January 23\, 2026 for our Club International Speech Contest. The event is being held at our location in Brampton\, Earnscliffe Recreation Centre. Doors open at 6:40pm and contest begins at 7pm. See our flyer for details.
URL:https://toastmasters123.org/event/raising-champions-advanced-toastmasters-international-speech-contest/
LOCATION:Earnscliffe Recreation Centre\, 44 Eastbourne Drive\, Brampton\, Ontario\, Canada
CATEGORIES:Open House
ATTACH;FMTTYPE=image/jpeg:https://toastmasters123.org/wp-content/uploads/2026/01/RCAT-Jan-23-2026.jpg
ORGANIZER;CN="RaisingChampionsAdvancedTM":MAILTO:raisingchampionsadvancedtm@gmail.com
END:VEVENT
BEGIN:VEVENT
DTSTART;TZID=America/Toronto:20260119T190000
DTEND;TZID=America/Toronto:20260119T190000
DTSTAMP:20260419T120048
CREATED:20260106T182128Z
LAST-MODIFIED:20260106T182128Z
UID:10001563-1768849200-1768849200@toastmasters123.org
SUMMARY:Judges\, before judging
DESCRIPTION:Learn to become a competent contest judge.
URL:https://toastmasters123.org/event/judges-before-judging-2/
CATEGORIES:District 123 Events,Program Quality,Speech Contests,Workshops
ATTACH;FMTTYPE=image/png:https://toastmasters123.org/wp-content/uploads/2026/01/Copy-of-Open-House-4.png
ORGANIZER;CN="Program%20Quality%20Team":MAILTO:pqd@toastmasters123.org
END:VEVENT
BEGIN:VEVENT
DTSTART;TZID=America/Toronto:20260117T100000
DTEND;TZID=America/Toronto:20260117T120000
DTSTAMP:20260419T120048
CREATED:20260107T014910Z
LAST-MODIFIED:20260107T014910Z
UID:10001564-1768644000-1768651200@toastmasters123.org
SUMMARY:Division A Club Officer Training Round 2
DESCRIPTION:Here’s your chance to help your club thrive and for you to grow as a leader while scoring valuable DCP points. Win-win!
URL:https://toastmasters123.org/event/division-a-club-officer-training-round-2/
LOCATION:Zoom\, Ontario\, Canada
CATEGORIES:Club Officer Training
ATTACH;FMTTYPE=image/png:https://toastmasters123.org/wp-content/uploads/2025/07/COT-828-x-676-px-Training-generic.png
ORGANIZER;CN="Division%20A%20Director":MAILTO:diva@toastmasters123.org
END:VEVENT
BEGIN:VEVENT
DTSTART;TZID=America/Toronto:20260113T200000
DTEND;TZID=America/Toronto:20260113T213000
DTSTAMP:20260419T120048
CREATED:20251209T022918Z
LAST-MODIFIED:20251209T022946Z
UID:10001550-1768334400-1768339800@toastmasters123.org
SUMMARY:Division E Club Officer Training Round 2
DESCRIPTION:The Club Officer Training provides the essential knowledge\, strategies\, and best practices every officer needs to support a successful Toastmasters year. Learn your role\, connect with other leaders\, and walk away with actionable tools to help your club thrive.
URL:https://toastmasters123.org/event/division-e-club-officer-training-round-2/
LOCATION:Zoom\, Ontario\, Canada
CATEGORIES:Club Officer Training
ATTACH;FMTTYPE=image/jpeg:https://toastmasters123.org/wp-content/uploads/2025/12/COTTRAINING2.jpg
ORGANIZER;CN="Division%20E%20Director":MAILTO:dive@toastmasters123.org
END:VEVENT
BEGIN:VEVENT
DTSTART;TZID=America/Toronto:20251220T190000
DTEND;TZID=America/Toronto:20251220T203000
DTSTAMP:20260419T120048
CREATED:20251221T053132Z
LAST-MODIFIED:20251221T053132Z
UID:10001556-1766257200-1766262600@toastmasters123.org
SUMMARY:Division M Club Officers Training (Round 2)
DESCRIPTION:This training is being organized to help reinforce club officer leadership skill\, share their experience so far and learn from each other to achieve their club’s Distinguished Club Program (DCP) goals.
URL:https://toastmasters123.org/event/division-m-club-officers-training-round-2/
LOCATION:Online
CATEGORIES:Club Officer Training
ATTACH;FMTTYPE=image/png:https://toastmasters123.org/wp-content/uploads/2025/07/COT-828-x-676-px-Training-generic.png
ORGANIZER;CN="Division%20M%20Director":MAILTO:divm@toastmasters123.org
END:VEVENT
BEGIN:VEVENT
DTSTART;TZID=America/Toronto:20251206T160000
DTEND;TZID=America/Toronto:20251206T190000
DTSTAMP:20260419T120048
CREATED:20251111T014927Z
LAST-MODIFIED:20251111T014927Z
UID:10001543-1765036800-1765047600@toastmasters123.org
SUMMARY:Division B Humour & Table Topics Speech Contest
DESCRIPTION:Toastmasters Division B Humour & Table Topics Speech Contest\nWhere wit meets wisdom — and the Hive comes alive! \nGet ready for an unforgettable evening of laughter\, quick thinking\, and powerful storytelling as Division B’s finest speakers take the stage in the ultimate showdown of humour and impromptu brilliance. \n🎤 What to Expect\n\nIntellectual stimulation: Be inspired by clever quips\, sharp insights\, and spontaneous brilliance.\nTwo thrilling contests: Humour Speeches that tickle the intellect\, and Table Topics that showcase on-the-spot mastery.\nCommunity celebration: Connect with fellow Toastmasters\, cheer on contestants\, and revel in the energy of the Bee Hive.\n\n🧭 What to Bring\n\nYour cheer and support: Applaud\, encourage\, and energize our courageous speakers.\nA curious mind: Be ready to laugh\, learn\, and be moved.\nYour Toastmasters spirit: Whether you’re a veteran or a guest\, your presence adds to the buzz.\n\n📍 How to Find Us\nJoin us in The Bee Hive — our buzzing venue of inspiration and celebration. Directions and parking details will be shared upon registration or via your club contact.
URL:https://toastmasters123.org/event/division-b-humour-table-topics-speech-contest/
LOCATION:1 President’s Choice Circle\, Brampton\, ON\, Loblaw\, 1 President's Choice Circle\, Brampton\, Ontario\, L6Y 5S5
CATEGORIES:Divisions
ATTACH;FMTTYPE=image/jpeg:https://toastmasters123.org/wp-content/uploads/2023/07/Toastmasters-Event-Grad.jpg
ORGANIZER;CN="DIvision%20B%20Director":MAILTO:divb@toastmasters123.org
END:VEVENT
BEGIN:VEVENT
DTSTART;TZID=America/New_York:20251206T113000
DTEND;TZID=America/New_York:20251206T130000
DTSTAMP:20260419T120048
CREATED:20251006T141730Z
LAST-MODIFIED:20251007T165432Z
UID:10001505-1765020600-1765026000@toastmasters123.org
SUMMARY:Club Officer Training Round 2 Division C\, District 123
DESCRIPTION:Club Officer Training Round 2\, by Division C – District 123
URL:https://toastmasters123.org/event/club-officer-training-round-2-division-c-district-123/
LOCATION:Online
CATEGORIES:Areas,C,Club Growth,Club Growth,Club Officer Training,Club Support
ATTACH;FMTTYPE=image/jpeg:https://toastmasters123.org/wp-content/uploads/2025/10/9462FC16-C9E1-48D0-8D13-2A29827E5EB4.jpeg
ORGANIZER;CN="Division%20C%20Director":MAILTO:divc@toastmasters123.org
END:VEVENT
BEGIN:VEVENT
DTSTART;TZID=America/New_York:20251203T190000
DTEND;TZID=America/New_York:20251203T210000
DTSTAMP:20260419T120048
CREATED:20251011T161315Z
LAST-MODIFIED:20251029T012054Z
UID:10001512-1764788400-1764795600@toastmasters123.org
SUMMARY:Division M Humorous & Table Topic Contests
DESCRIPTION:Toastmasters will be taking their speaking experience to another level by participating the division’s humorous and table topic speech contests. After this experience they would have growth in their confident and speaking skill.
URL:https://toastmasters123.org/event/division-m-humorous-table-topic-contests/
LOCATION:Vellore Village Community Centre\, 1 Villa Royale Ave\, Woodbridge\, Ontario\, L4H 2Z7\, Canada
CATEGORIES:Divisions,M
ATTACH;FMTTYPE=image/jpeg:https://toastmasters123.org/wp-content/uploads/2023/07/Toastmasters-Event-Grad.jpg
ORGANIZER;CN="Division%20M%20Director":MAILTO:divm@toastmasters123.org
END:VEVENT
BEGIN:VEVENT
DTSTART;TZID=America/Toronto:20251201T190000
DTEND;TZID=America/Toronto:20251201T210000
DTSTAMP:20260419T120048
CREATED:20251029T011133Z
LAST-MODIFIED:20251029T011133Z
UID:10001530-1764615600-1764622800@toastmasters123.org
SUMMARY:Division A Humorous Speech and Table Topics contest
DESCRIPTION:Come join us for a great evening of friendly competition\, camaraderie and creativity as Division A hosts our Humorous Speech and Table Topics contest.
URL:https://toastmasters123.org/event/division-a-humorous-speech-and-table-topics-contest/
LOCATION:2401 Denison Street\, 2401 Denison Street
CATEGORIES:Speech Contests
ATTACH;FMTTYPE=image/png:https://toastmasters123.org/wp-content/uploads/2025/10/Generic-Speech-Contest-Template.png
ORGANIZER;CN="Division%20A%20Director":MAILTO:diva@toastmasters123.org
END:VEVENT
BEGIN:VEVENT
DTSTART;TZID=America/Toronto:20251126T183000
DTEND;TZID=America/Toronto:20251126T193000
DTSTAMP:20260419T120048
CREATED:20251116T222247Z
LAST-MODIFIED:20251116T222247Z
UID:10001546-1764181800-1764185400@toastmasters123.org
SUMMARY:Pathways Enhancements 2025
DESCRIPTION:Take a guided tour of the new enhancements!
URL:https://toastmasters123.org/event/pathways-enhancements-2025-3/
LOCATION:Zoom\, Ontario\, Canada
CATEGORIES:Pathways
ATTACH;FMTTYPE=image/png:https://toastmasters123.org/wp-content/uploads/2025/11/Pathways-2025-Enhancements.png
ORGANIZER;CN="Tony%20Nelson":MAILTO:irish1277@gmail.com
END:VEVENT
BEGIN:VEVENT
DTSTART;TZID=America/Toronto:20251126T070000
DTEND;TZID=America/Toronto:20251126T210000
DTSTAMP:20260419T120048
CREATED:20251126T011640Z
LAST-MODIFIED:20251126T011640Z
UID:10001548-1764140400-1764190800@toastmasters123.org
SUMMARY:Judges Workshop
DESCRIPTION:How to interpret the judges Ballot Form and improve your speech writing
URL:https://toastmasters123.org/event/judges-workshop/
LOCATION:Brampton Toastmasters\, 1295 Williams Parkway\, Brampton\, Ontario\, L6S 3J8\, Canada
CATEGORIES:Workshops
ATTACH;FMTTYPE=image/jpeg:https://toastmasters123.org/wp-content/uploads/2025/11/Judges-Workshop.jpg
END:VEVENT
BEGIN:VEVENT
DTSTART;TZID=America/New_York:20251125T190000
DTEND;TZID=America/New_York:20251125T220000
DTSTAMP:20260419T120048
CREATED:20250916T160931Z
LAST-MODIFIED:20251018T125102Z
UID:10001483-1764097200-1764108000@toastmasters123.org
SUMMARY:Division E Humorous and Table Topics Speech Contest
DESCRIPTION:“Division E Humorous Speech and Table Topics Contest featuring members competing in prepared humour and impromptu speaking”
URL:https://toastmasters123.org/event/division-e-humorous-and-table-topics-speech-contest/
LOCATION:The Embassy Church\, 416 Taunton Rd. W.\, Oshawa\, Canada
CATEGORIES:Divisions,E
ATTACH;FMTTYPE=image/jpeg:https://toastmasters123.org/wp-content/uploads/2025/09/divecontest-1.jpg
ORGANIZER;CN="Division%20E%20Director":MAILTO:dive@toastmasters123.org
END:VEVENT
BEGIN:VEVENT
DTSTART;TZID=America/Toronto:20251124T183000
DTEND;TZID=America/Toronto:20251124T213000
DTSTAMP:20260419T120048
CREATED:20251102T190136Z
LAST-MODIFIED:20251102T190136Z
UID:10001535-1764009000-1764019800@toastmasters123.org
SUMMARY:Whitby Intrepid 25th Charter Party !!
DESCRIPTION:Whitby Intrepid is 25 years old and we are celebrating\, our milestone with balloons\, awards\, food and a keynote speaker:  Registration is free\, however you are responsible for your own entree and drinks!!  all information is on the attached flyer.
URL:https://toastmasters123.org/event/whitby-intrepid-25th-charter-party/2025-11-24/2/
LOCATION:Melanie Pringles\, Thickson Road\, Whitby\, On\, Canada
CATEGORIES:Anniversary
ATTACH;FMTTYPE=image/jpeg:https://toastmasters123.org/wp-content/uploads/2025/10/att.pgRvo7shtIixKsIUbBJhB1lFvG3soawdpo5mxzm7kS8.jpeg
END:VEVENT
BEGIN:VEVENT
DTSTART;TZID=America/Toronto:20251124T120000
DTEND;TZID=America/Toronto:20251124T130000
DTSTAMP:20260419T120049
CREATED:20251116T222307Z
LAST-MODIFIED:20251116T222307Z
UID:10001547-1763985600-1763989200@toastmasters123.org
SUMMARY:Pathways Enhancements 2025
DESCRIPTION:Take a guided tour of the new enhancements!
URL:https://toastmasters123.org/event/pathways-enhancements-2025-4/
LOCATION:Zoom\, Ontario\, Canada
CATEGORIES:Pathways
ATTACH;FMTTYPE=image/png:https://toastmasters123.org/wp-content/uploads/2025/11/Pathways-2025-Enhancements-1.png
ORGANIZER;CN="Tony%20Nelson":MAILTO:irish1277@gmail.com
END:VEVENT
BEGIN:VEVENT
DTSTART;TZID=America/New_York:20251122T140000
DTEND;TZID=America/New_York:20251122T160000
DTSTAMP:20260419T120049
CREATED:20250831T010908Z
LAST-MODIFIED:20251007T164754Z
UID:10001469-1763820000-1763827200@toastmasters123.org
SUMMARY:Division C Contests
DESCRIPTION:Division C – District 123 Contests – Humorous and Table Topics
URL:https://toastmasters123.org/event/division-c-contests/
LOCATION:Toronto Pulic Library-Program Room\, Eglinton Square Shopping Centre\, 1 Eglinton Square\, Unit 1266\, Toronto\, Ontario\, M1L2K1\, Canada
CATEGORIES:C
ATTACH;FMTTYPE=image/png:https://toastmasters123.org/wp-content/uploads/2025/10/divccontestnov22-1.png
ORGANIZER;CN="Division%20C%20Director":MAILTO:divc@toastmasters123.org
END:VEVENT
BEGIN:VEVENT
DTSTART;TZID=America/New_York:20251122T100000
DTEND;TZID=America/New_York:20251122T120000
DTSTAMP:20260419T120049
CREATED:20250923T004405Z
LAST-MODIFIED:20250923T004405Z
UID:10001490-1763805600-1763812800@toastmasters123.org
SUMMARY:TLI/Club Officers Training = II
DESCRIPTION:This is an opportunity not only to fulfill the required credit for the distinguished program but also to gain insight into the roles and responsibilities of the executive. We’d like to share your experience\, list of challenges\, and achievements from the last five months. We will have smaller breakout rooms for attendees to interact with the facilitator or within their own breakout group. 
URL:https://toastmasters123.org/event/tli-club-officers-training-ii/
LOCATION:Zoom\, Ontario\, Canada
CATEGORIES:Club Officer Training,District 123 Events,Program Quality
ATTACH;FMTTYPE=image/png:https://toastmasters123.org/wp-content/uploads/2025/09/div_g_intl_speech_contest-5.png
END:VEVENT
BEGIN:VEVENT
DTSTART;TZID=America/Toronto:20251118T053000
DTEND;TZID=America/Toronto:20251118T193000
DTSTAMP:20260419T120049
CREATED:20251116T222605Z
LAST-MODIFIED:20251116T222605Z
UID:10001545-1763443800-1763494200@toastmasters123.org
SUMMARY:Area A44 Contests
DESCRIPTION:Join us for funny speeches\, creative impromptu speaking and great camaraderie at the Area 44 Humorous Speech and Table Topics contests
URL:https://toastmasters123.org/event/area-a44-contests/
LOCATION:Markham YMCA Employment Services\, 4855 14th Avenue\, Markham\, Ontario\, Canada
CATEGORIES:A
ATTACH;FMTTYPE=image/png:https://toastmasters123.org/wp-content/uploads/2025/06/D123-Speech-Contests-generic-1.png
ORGANIZER;CN="Area%20A44%20Director":MAILTO:areaa44@toastmasters123.org
END:VEVENT
BEGIN:VEVENT
DTSTART;TZID=America/Toronto:20251117T111500
DTEND;TZID=America/Toronto:20251117T120000
DTSTAMP:20260419T120049
CREATED:20251102T190146Z
LAST-MODIFIED:20251111T014532Z
UID:10001536-1763378100-1763380800@toastmasters123.org
SUMMARY:Toastmasters Communication Achievement Award Presentation to Patrick Brown Nov 17
DESCRIPTION:Award Presentation\n \nJoin us for the Award Presentation to Mayor Patrick Brown in recognition of his achievements in the fields of communication and leadership. \nPatrick Brown\, Mayor of the City of Brampton\, will be presented with the Toastmasters Communication Achievement Award by Hershaw Toastmasters for his achievement in the field of Communication and Leadership. The event will take place on Monday\, November 17\, at 11:15 a.m. at Brampton City Hall. \nRegister and see more at https://hershawaward.eventbrite.ca \nAttendees must register; the location at City Hall will be determined by the number of attendees.
URL:https://toastmasters123.org/event/toastmasters-communication-achievement-award-presentation-to-patrick-brown-nov-17/
LOCATION:Brampton City Hall\, City Hall West Tower 2D\, 2 Wellington St W\, Brampton\, ON\, L6Y 4R2\, Canada
CATEGORIES:B,Club Growth,Open House
ATTACH;FMTTYPE=image/jpeg:https://toastmasters123.org/wp-content/uploads/2025/11/Toastmasters-Communication-Achievement-Award-Presentation-to-Patrick-Brown.jpg
ORGANIZER;CN="Hershaw%20Toastmasters":MAILTO:contact@hershawtoastmasters.com
END:VEVENT
BEGIN:VEVENT
DTSTART;TZID=America/Toronto:20251115T130000
DTEND;TZID=America/Toronto:20251115T160000
DTSTAMP:20260419T120049
CREATED:20251019T205017Z
LAST-MODIFIED:20251019T205017Z
UID:10001525-1763211600-1763222400@toastmasters123.org
SUMMARY:Division N Humorous Speech and Table Topics Contests
DESCRIPTION:Join us for an afternoon of entertainment!
URL:https://toastmasters123.org/event/division-n-humorous-speech-and-table-topics-contests-2/
LOCATION:The Parkside Centre\, 140 Durham Street\, Sudbury\, Ontario\, Canada
ATTACH;FMTTYPE=image/jpeg:https://toastmasters123.org/wp-content/uploads/2025/10/Division-N-Humorous-Speech-Table-Topics-Contests.jpg
ORGANIZER;CN="Division%20N%20Director":MAILTO:divn@toastmasters123.org
END:VEVENT
BEGIN:VEVENT
DTSTART;TZID=America/Toronto:20251113T183000
DTEND;TZID=America/Toronto:20251113T193000
DTSTAMP:20260419T120049
CREATED:20251102T190233Z
LAST-MODIFIED:20251102T190233Z
UID:10001538-1763058600-1763062200@toastmasters123.org
SUMMARY:Pathways Enhancements 2025
DESCRIPTION:Take a guided tour of the new enhancements!
URL:https://toastmasters123.org/event/pathways-enhancements-2025-2/
LOCATION:Zoom\, Ontario\, Canada
CATEGORIES:Club Support,Pathways,Program Quality
ATTACH;FMTTYPE=image/png:https://toastmasters123.org/wp-content/uploads/2025/11/cPathways-Enhamcements-1.png
ORGANIZER;CN="Tony%20Nelson":MAILTO:irish1277@gmail.com
END:VEVENT
BEGIN:VEVENT
DTSTART;TZID=America/Toronto:20251112T190000
DTEND;TZID=America/Toronto:20251112T213000
DTSTAMP:20260419T120049
CREATED:20251106T030906Z
LAST-MODIFIED:20251106T030906Z
UID:10001539-1762974000-1762983000@toastmasters123.org
SUMMARY:Area 82 Humorous & Table Topic Speech Contest
DESCRIPTION:Members competing with prepared Humorous speeches & impromptu speaking.
URL:https://toastmasters123.org/event/area-82-humorous-table-topic-speech-contest/
LOCATION:1010 Westney Road\, Ajax\, 1010 Westney Road\, Ajax\, Canada
CATEGORIES:E
ATTACH;FMTTYPE=image/png:https://toastmasters123.org/wp-content/uploads/2025/06/D123-Speech-Contests-generic-1.png
ORGANIZER;CN="Area%20E82%20Director":MAILTO:areae82@toastmasters123.org
END:VEVENT
BEGIN:VEVENT
DTSTART;TZID=America/Toronto:20251112T120000
DTEND;TZID=America/Toronto:20251112T130000
DTSTAMP:20260419T120049
CREATED:20251102T190216Z
LAST-MODIFIED:20251102T190216Z
UID:10001537-1762948800-1762952400@toastmasters123.org
SUMMARY:Pathways Enhancements 2025
DESCRIPTION:Take a guided tour of the new enhancements!
URL:https://toastmasters123.org/event/pathways-enhancements-2025/
LOCATION:Zoom\, Ontario\, Canada
CATEGORIES:Club Support,Pathways,Program Quality,Workshops
ATTACH;FMTTYPE=image/png:https://toastmasters123.org/wp-content/uploads/2025/11/cPathways-Enhamcements.png
ORGANIZER;CN="Tony%20Nelson":MAILTO:irish1277@gmail.com
END:VEVENT
BEGIN:VEVENT
DTSTART;TZID=America/New_York:20251109T120000
DTEND;TZID=America/New_York:20251109T133000
DTSTAMP:20260419T120049
CREATED:20251017T024246Z
LAST-MODIFIED:20251029T011918Z
UID:10001521-1762689600-1762695000@toastmasters123.org
SUMMARY:Area M31 Table Topics and Humorous Speech Contests
DESCRIPTION:Area M31 Table Topics and Humorous Speech Contests \n\nSimcoe Shores Club\nSpeak for Success York-Simcoe\nThe Court Of Blarney\nTroy Toastmasters Club
URL:https://toastmasters123.org/event/area-m31-table-topics-and-humorous-speech-contests/
LOCATION:Magna Center – 800 Mulock Dr\, Newmarket Ontario – Multipurpose Room #1\, 800 Mulock Dr\, Newmarket\, Ontario\, Canada
CATEGORIES:M
ATTACH;FMTTYPE=image/jpeg:https://toastmasters123.org/wp-content/uploads/2023/07/Toastmasters-Event-Grad.jpg
ORGANIZER;CN="Area%20M31%20Director":MAILTO:aream31@toastmasters123.org
END:VEVENT
BEGIN:VEVENT
DTSTART;TZID=America/Toronto:20251107T182000
DTEND;TZID=America/Toronto:20251107T210000
DTSTAMP:20260419T120049
CREATED:20251103T040714Z
LAST-MODIFIED:20251103T040714Z
UID:10001541-1762539600-1762549200@toastmasters123.org
SUMMARY:Area B24 Humorous Speech and Table Topics Contest
DESCRIPTION:Taking this opportunity to invite each of you to the B24 Area Contest:\nLocation: 1 Presidents Choice Cir\, Brampton ON L6Y 5S5.\nDate: Friday\, November 7\, 2025\nTime: 6:20PM
URL:https://toastmasters123.org/event/area-b24-humorous-speech-and-table-topics-contest/
LOCATION:1 President’s Choice Circle\, Brampton\, ON\, Loblaw\, 1 President's Choice Circle\, Brampton\, Ontario\, L6Y 5S5
ATTACH;FMTTYPE=image/png:https://toastmasters123.org/wp-content/uploads/2025/06/D123-Speech-Contests-generic-1.png
END:VEVENT
BEGIN:VEVENT
DTSTART;TZID=America/Toronto:20251107T173000
DTEND;TZID=America/Toronto:20251107T200000
DTSTAMP:20260419T120049
CREATED:20251030T234821Z
LAST-MODIFIED:20251107T022439Z
UID:10001532-1762536600-1762545600@toastmasters123.org
SUMMARY:Areas' C64 and CC65 Table Topics and Humorous Speech Contests
DESCRIPTION:Join District 123 Areas’ C64 & C65 for an evening of wit\, laughter\, and impromptu brilliance at the Table Topics and Humorous Speech Contests!\n\n\n\n\n\n November 7\, 2025 5:30 PM – 8:00 PM CIBC Square\, Room 2201\, 22nd Floor\, 81 Bay St.\, Toronto.\n\n\n\n\n\n#DivisionC #AreaC64 #AreaC65 #Toastmasters #District123 #publicspeaking
URL:https://toastmasters123.org/event/areas-c64-and-cc65-table-topics-and-humorous-speech-contests/
LOCATION:CIBC Square\, Room 2201\, 22nd Floor\, 81 Bay St. Toronto\, CIBC Square\, Room 2201\, 22nd Floor\, 81 Bay St.\, Toronto\, Ontario\, M5J 0E7\, Canada
CATEGORIES:Areas,C,Divisions,Program Quality
ORGANIZER;CN="C65%20and%20C64%20Directors":MAILTO:areac64@toastmasters123.org
END:VEVENT
BEGIN:VEVENT
DTSTART;TZID=America/Toronto:20251105T191500
DTEND;TZID=America/Toronto:20251105T211500
DTSTAMP:20260419T120049
CREATED:20251029T011227Z
LAST-MODIFIED:20251029T011227Z
UID:10001531-1762370100-1762377300@toastmasters123.org
SUMMARY:The Art of Public Speaking
DESCRIPTION:A dynamic workshop designed for anyone eager to master interpersonal communication.\n\nJoin us for an interactive and engaging session that will help you conquer your fear of public speaking and sharpen your communication skills. Learn how to:  Overcome social anxiety   Build unshakable self-confidence  Improve persuasion and communication techniques  Harness the power of body language  Discover and refine your unique speaking style
URL:https://toastmasters123.org/event/the-art-of-public-speaking/
LOCATION:Brampton Toastmasters\, 1295 Williams Parkway\, Brampton\, Ontario\, L6S 3J8\, Canada
CATEGORIES:Workshops
ATTACH;FMTTYPE=image/jpeg:https://toastmasters123.org/wp-content/uploads/2025/10/Jacklyn-Workshop1.jpg
END:VEVENT
BEGIN:VEVENT
DTSTART;TZID=America/Toronto:20251105T190000
DTEND;TZID=America/Toronto:20251105T213000
DTSTAMP:20260419T120049
CREATED:20251103T035125Z
LAST-MODIFIED:20251103T035125Z
UID:10001540-1762369200-1762378200@toastmasters123.org
SUMMARY:Area M33 Humorous Speech and Table Topics Contest
DESCRIPTION:Our M33 Area Table Topics and Humorous Speech Contest will be Wednesday November 5\, 2025 at 7:00 pm to 9:30 pm at the Vellore Community Centre\, Woodbridge\, Ontario
URL:https://toastmasters123.org/event/area-m33-humorous-speech-and-table-topics-contest/
LOCATION:Vellore Village Community Centre\, 1 Villa Royale Ave\, Woodbridge\, Ontario\, L4H 2Z7\, Canada
CATEGORIES:M,Speech Contests
ATTACH;FMTTYPE=image/png:https://toastmasters123.org/wp-content/uploads/2025/06/D123-Speech-Contests-generic-1.png
END:VEVENT
END:VCALENDAR