BEGIN:VCALENDAR
VERSION:2.0
PRODID:-//Toastmasters District 123 - ECPv6.2.0.1//NONSGML v1.0//EN
CALSCALE:GREGORIAN
METHOD:PUBLISH
X-WR-CALNAME:Toastmasters District 123
X-ORIGINAL-URL:https://toastmasters123.org
X-WR-CALDESC:Events for Toastmasters District 123
REFRESH-INTERVAL;VALUE=DURATION:PT1H
X-Robots-Tag:noindex
X-PUBLISHED-TTL:PT1H
BEGIN:VTIMEZONE
TZID:America/Toronto
BEGIN:DAYLIGHT
TZOFFSETFROM:-0500
TZOFFSETTO:-0400
TZNAME:EDT
DTSTART:20250309T070000
END:DAYLIGHT
BEGIN:STANDARD
TZOFFSETFROM:-0400
TZOFFSETTO:-0500
TZNAME:EST
DTSTART:20251102T060000
END:STANDARD
TZID:America/New_York
BEGIN:DAYLIGHT
TZOFFSETFROM:-0500
TZOFFSETTO:-0400
TZNAME:EDT
DTSTART:20250309T070000
END:DAYLIGHT
BEGIN:STANDARD
TZOFFSETFROM:-0400
TZOFFSETTO:-0500
TZNAME:EST
DTSTART:20251102T060000
END:STANDARD
END:VTIMEZONE
BEGIN:VEVENT
DTSTART;TZID=America/Toronto:20251101T140000
DTEND;TZID=America/Toronto:20251101T160000
DTSTAMP:20260422T194303
CREATED:20251017T024006Z
LAST-MODIFIED:20251017T024006Z
UID:10001519-1762005600-1762012800@toastmasters123.org
SUMMARY:Area C62 Table Topics and Humorous speech contests
DESCRIPTION:🎤 Join us for an Afternoon of Inspiration and Laughter! \nDistrict 123 Area C62 proudly presents the Table Topics and Humorous Speech Contest! \n🗓 Date: November 1\, 2025🕑 Time: 2:00 PM – 4:00 PM📍 Location: North York Central Library\, Meeting Room 15120 Yonge Street\, North York\, M2N 6W8 \nCome support our talented Toastmasters as they showcase their quick thinking and storytelling skills in an afternoon filled with creativity\, humor\, and community spirit. \nEveryone is welcome — members\, guests\, and anyone curious about Toastmasters! \n📸 Don’t forget to bring your friends and capture some memorable moments. \nThis event is not hosted or sponsored by the Toronto Public Library. \n#Toastmasters #District123 #AreaC62 #SpeechContest #TableTopics #HumorousSpeech #NorthYork #PublicSpeaking #Leadership
URL:https://toastmasters123.org/event/area-c62-table-topics-and-humorous-speech-contests/
LOCATION:North York Central library meeting room 1\, 5120 Yonge Street\, North York\, ON\, M2N 6W8\, Canada
CATEGORIES:Areas,C
ATTACH;FMTTYPE=image/jpeg:https://toastmasters123.org/wp-content/uploads/2025/10/IMG_4234.jpeg
ORGANIZER;CN="Division%20C%20Director":MAILTO:divc@toastmasters123.org
END:VEVENT
BEGIN:VEVENT
DTSTART;TZID=America/Toronto:20251104T070000
DTEND;TZID=America/Toronto:20251104T210000
DTSTAMP:20260422T194303
CREATED:20251023T000545Z
LAST-MODIFIED:20251029T011844Z
UID:10001527-1762239600-1762290000@toastmasters123.org
SUMMARY:Area A45 Speech Contests
DESCRIPTION:Come join us for a great evening of friendly competition\, camaraderie and creativity as Area A45 hosts our Humorous Speech and Table Topics contest. \nEmail: diva@toastmasters123.org if you’d like to attend
URL:https://toastmasters123.org/event/area-a45-speech-contests/
LOCATION:Scarborough Civic Centre\, 150 Borough Drive\, Scarborough\, ON\, M1P 4N7\, Canada
CATEGORIES:A
ATTACH;FMTTYPE=image/jpeg:https://toastmasters123.org/wp-content/uploads/2023/07/Toastmasters-Event-Grad.jpg
ORGANIZER;CN="Area%2045%20Director":MAILTO:diva@toastmasters123.org
END:VEVENT
BEGIN:VEVENT
DTSTART;TZID=America/New_York:20251122T100000
DTEND;TZID=America/New_York:20251122T120000
DTSTAMP:20260422T194303
CREATED:20250923T004405Z
LAST-MODIFIED:20250923T004405Z
UID:10001490-1763805600-1763812800@toastmasters123.org
SUMMARY:TLI/Club Officers Training = II
DESCRIPTION:This is an opportunity not only to fulfill the required credit for the distinguished program but also to gain insight into the roles and responsibilities of the executive. We’d like to share your experience\, list of challenges\, and achievements from the last five months. We will have smaller breakout rooms for attendees to interact with the facilitator or within their own breakout group. 
URL:https://toastmasters123.org/event/tli-club-officers-training-ii/
LOCATION:Zoom\, Ontario\, Canada
CATEGORIES:Club Officer Training,District 123 Events,Program Quality
ATTACH;FMTTYPE=image/png:https://toastmasters123.org/wp-content/uploads/2025/09/div_g_intl_speech_contest-5.png
END:VEVENT
END:VCALENDAR