BEGIN:VCALENDAR
VERSION:2.0
PRODID:-//Toastmasters District 123 - ECPv6.2.0.1//NONSGML v1.0//EN
CALSCALE:GREGORIAN
METHOD:PUBLISH
X-ORIGINAL-URL:https://toastmasters123.org
X-WR-CALDESC:Events for Toastmasters District 123
REFRESH-INTERVAL;VALUE=DURATION:PT1H
X-Robots-Tag:noindex
X-PUBLISHED-TTL:PT1H
BEGIN:VTIMEZONE
TZID:America/New_York
BEGIN:DAYLIGHT
TZOFFSETFROM:-0500
TZOFFSETTO:-0400
TZNAME:EDT
DTSTART:20250309T070000
END:DAYLIGHT
BEGIN:STANDARD
TZOFFSETFROM:-0400
TZOFFSETTO:-0500
TZNAME:EST
DTSTART:20251102T060000
END:STANDARD
TZID:America/Toronto
BEGIN:DAYLIGHT
TZOFFSETFROM:-0500
TZOFFSETTO:-0400
TZNAME:EDT
DTSTART:20250309T070000
END:DAYLIGHT
BEGIN:STANDARD
TZOFFSETFROM:-0400
TZOFFSETTO:-0500
TZNAME:EST
DTSTART:20251102T060000
END:STANDARD
END:VTIMEZONE
BEGIN:VEVENT
DTSTART;TZID=America/New_York:20251206T113000
DTEND;TZID=America/New_York:20251206T130000
DTSTAMP:20260422T184101
CREATED:20251006T141730Z
LAST-MODIFIED:20251007T165432Z
UID:10001505-1765020600-1765026000@toastmasters123.org
SUMMARY:Club Officer Training Round 2 Division C\, District 123
DESCRIPTION:Club Officer Training Round 2\, by Division C – District 123
URL:https://toastmasters123.org/event/club-officer-training-round-2-division-c-district-123/
LOCATION:Online
CATEGORIES:Areas,C,Club Growth,Club Growth,Club Officer Training,Club Support
ATTACH;FMTTYPE=image/jpeg:https://toastmasters123.org/wp-content/uploads/2025/10/9462FC16-C9E1-48D0-8D13-2A29827E5EB4.jpeg
ORGANIZER;CN="Division%20C%20Director":MAILTO:divc@toastmasters123.org
END:VEVENT
BEGIN:VEVENT
DTSTART;TZID=America/Toronto:20251206T160000
DTEND;TZID=America/Toronto:20251206T190000
DTSTAMP:20260422T184101
CREATED:20251111T014927Z
LAST-MODIFIED:20251111T014927Z
UID:10001543-1765036800-1765047600@toastmasters123.org
SUMMARY:Division B Humour & Table Topics Speech Contest
DESCRIPTION:Toastmasters Division B Humour & Table Topics Speech Contest\nWhere wit meets wisdom — and the Hive comes alive! \nGet ready for an unforgettable evening of laughter\, quick thinking\, and powerful storytelling as Division B’s finest speakers take the stage in the ultimate showdown of humour and impromptu brilliance. \n🎤 What to Expect\n\nIntellectual stimulation: Be inspired by clever quips\, sharp insights\, and spontaneous brilliance.\nTwo thrilling contests: Humour Speeches that tickle the intellect\, and Table Topics that showcase on-the-spot mastery.\nCommunity celebration: Connect with fellow Toastmasters\, cheer on contestants\, and revel in the energy of the Bee Hive.\n\n🧭 What to Bring\n\nYour cheer and support: Applaud\, encourage\, and energize our courageous speakers.\nA curious mind: Be ready to laugh\, learn\, and be moved.\nYour Toastmasters spirit: Whether you’re a veteran or a guest\, your presence adds to the buzz.\n\n📍 How to Find Us\nJoin us in The Bee Hive — our buzzing venue of inspiration and celebration. Directions and parking details will be shared upon registration or via your club contact.
URL:https://toastmasters123.org/event/division-b-humour-table-topics-speech-contest/
LOCATION:1 President’s Choice Circle\, Brampton\, ON\, Loblaw\, 1 President's Choice Circle\, Brampton\, Ontario\, L6Y 5S5
CATEGORIES:Divisions
ATTACH;FMTTYPE=image/jpeg:https://toastmasters123.org/wp-content/uploads/2023/07/Toastmasters-Event-Grad.jpg
ORGANIZER;CN="DIvision%20B%20Director":MAILTO:divb@toastmasters123.org
END:VEVENT
END:VCALENDAR