BEGIN:VCALENDAR
VERSION:2.0
PRODID:-//Toastmasters District 123 - ECPv6.2.0.1//NONSGML v1.0//EN
CALSCALE:GREGORIAN
METHOD:PUBLISH
X-WR-CALNAME:Toastmasters District 123
X-ORIGINAL-URL:https://toastmasters123.org
X-WR-CALDESC:Events for Toastmasters District 123
REFRESH-INTERVAL;VALUE=DURATION:PT1H
X-Robots-Tag:noindex
X-PUBLISHED-TTL:PT1H
BEGIN:VTIMEZONE
TZID:America/Toronto
BEGIN:DAYLIGHT
TZOFFSETFROM:-0500
TZOFFSETTO:-0400
TZNAME:EDT
DTSTART:20250309T070000
END:DAYLIGHT
BEGIN:STANDARD
TZOFFSETFROM:-0400
TZOFFSETTO:-0500
TZNAME:EST
DTSTART:20251102T060000
END:STANDARD
END:VTIMEZONE
BEGIN:VEVENT
DTSTART;TZID=America/Toronto:20251124T080000
DTEND;TZID=America/Toronto:20251124T170000
DTSTAMP:20260422T064634
CREATED:20251102T190136Z
LAST-MODIFIED:20251102T190136Z
UID:10001534-1763971200-1764003600@toastmasters123.org
SUMMARY:Whitby Intrepid 25th Charter Party !!
DESCRIPTION:Whitby Intrepid is 25 years old and we are celebrating\, our milestone with balloons\, awards\, food and a keynote speaker:  Registration is free\, however you are responsible for your own entree and drinks!!  all information is on the attached flyer.
URL:https://toastmasters123.org/event/whitby-intrepid-25th-charter-party/2025-11-24/1/
LOCATION:Melanie Pringles\, Thickson Road\, Whitby\, On\, Canada
CATEGORIES:Anniversary
ATTACH;FMTTYPE=image/jpeg:https://toastmasters123.org/wp-content/uploads/2025/10/att.pgRvo7shtIixKsIUbBJhB1lFvG3soawdpo5mxzm7kS8.jpeg
END:VEVENT
BEGIN:VEVENT
DTSTART;TZID=America/Toronto:20251124T183000
DTEND;TZID=America/Toronto:20251124T213000
DTSTAMP:20260422T064634
CREATED:20251102T190136Z
LAST-MODIFIED:20251102T190136Z
UID:10001535-1764009000-1764019800@toastmasters123.org
SUMMARY:Whitby Intrepid 25th Charter Party !!
DESCRIPTION:Whitby Intrepid is 25 years old and we are celebrating\, our milestone with balloons\, awards\, food and a keynote speaker:  Registration is free\, however you are responsible for your own entree and drinks!!  all information is on the attached flyer.
URL:https://toastmasters123.org/event/whitby-intrepid-25th-charter-party/2025-11-24/2/
LOCATION:Melanie Pringles\, Thickson Road\, Whitby\, On\, Canada
CATEGORIES:Anniversary
ATTACH;FMTTYPE=image/jpeg:https://toastmasters123.org/wp-content/uploads/2025/10/att.pgRvo7shtIixKsIUbBJhB1lFvG3soawdpo5mxzm7kS8.jpeg
END:VEVENT
END:VCALENDAR