BEGIN:VCALENDAR
VERSION:2.0
PRODID:-//Toastmasters District 123 - ECPv6.2.0.1//NONSGML v1.0//EN
CALSCALE:GREGORIAN
METHOD:PUBLISH
X-ORIGINAL-URL:https://toastmasters123.org
X-WR-CALDESC:Events for Toastmasters District 123
REFRESH-INTERVAL;VALUE=DURATION:PT1H
X-Robots-Tag:noindex
X-PUBLISHED-TTL:PT1H
BEGIN:VTIMEZONE
TZID:America/Toronto
BEGIN:DAYLIGHT
TZOFFSETFROM:-0500
TZOFFSETTO:-0400
TZNAME:EDT
DTSTART:20260308T070000
END:DAYLIGHT
BEGIN:STANDARD
TZOFFSETFROM:-0400
TZOFFSETTO:-0500
TZNAME:EST
DTSTART:20261101T060000
END:STANDARD
TZID:America/New_York
BEGIN:DAYLIGHT
TZOFFSETFROM:-0500
TZOFFSETTO:-0400
TZNAME:EDT
DTSTART:20250309T070000
END:DAYLIGHT
BEGIN:STANDARD
TZOFFSETFROM:-0400
TZOFFSETTO:-0500
TZNAME:EST
DTSTART:20251102T060000
END:STANDARD
END:VTIMEZONE
BEGIN:VEVENT
DTSTART;TZID=America/Toronto:20260223T190000
DTEND;TZID=America/Toronto:20260223T200000
DTSTAMP:20260421T201027
CREATED:20260205T030551Z
LAST-MODIFIED:20260205T030606Z
UID:10001576-1771873200-1771876800@toastmasters123.org
SUMMARY:D123 Club Growth Directors Workshop Series Session 2 Onboarding
DESCRIPTION:Interactive workshop that will provide the perfect tools to bring in new members and keep your existing club healthy! \n\nSession 2 Onboarding Feb 23 at 7PM \nOnboarding\,  https://us06web.zoom.us/meeting/register/18j-vr7mSZ-YxSBoQElDDg \nFull Seriers \nSession 1 Member Acquisition\, Feb 4 https://us06web.zoom.us/meeting/register/bOGzllnvTF2jJgafc-4Sog \n  \nSession 2 Onboarding Feb 23  \nOnboarding\,  https://us06web.zoom.us/meeting/register/18j-vr7mSZ-YxSBoQElDDg \n  \nSession 3 Retention part I Mar 5 \nhttps://us06web.zoom.us/meeting/register/G0rPZyD0StO1_LjxGiPdug \n  \nSession 4 Retention part II Mar 12 \nhttps://us06web.zoom.us/meeting/register/xA-cGFQjRRyEDglQvoqIcA \n  \nFeb 10 \nMoments of Truth https://us06web.zoom.us/meeting/register/KcBv53XpSPOcd4-hxNAeiQ
URL:https://toastmasters123.org/event/d123-club-growth-directors-workshop-series-session-2-onboarding/
LOCATION:Zoom\, Ontario\, Canada
CATEGORIES:Club Growth
ATTACH;FMTTYPE=image/png:https://toastmasters123.org/wp-content/uploads/2026/01/Acquisition-workshop-Feb-Mar-2026.png
ORGANIZER;CN="Club%20Growth%20Director":MAILTO:cgd@toastmasters123.org
END:VEVENT
BEGIN:VEVENT
DTSTART;TZID=America/New_York:20250813T191500
DTEND;TZID=America/New_York:20250813T210000
DTSTAMP:20260421T201027
CREATED:20250812T165623Z
LAST-MODIFIED:20250812T165623Z
UID:10001459-1755112500-1755118800@toastmasters123.org
SUMMARY:How Toastmasters Can Help in Your Professional Development
DESCRIPTION:Unlock your potential at the Brampton Toastmasters District 123 workshop\, “How Toastmasters Can Help in Your Professional Development\,” featuring renowned speaker Jacklyn A. Payne\, DTM\, PDD\, PRA. Join us on Wednesday\, August 13\, 2025\, at 7:15 PM at the Terry Miller Recreation Centre (Level 2)\, 1295 Williams Pkwy\, Brampton\, for an inspiring evening focused on elevating your communication and leadership skills. Whether you’re looking to advance your career or grow personally\, this session offers valuable insights and practical tools. RSVP at bramptontmclub2347@gmail.com or contact Jesse at (416)-419-2104.
URL:https://toastmasters123.org/event/how-toastmasters-can-help-in-your-professional-development/
LOCATION:Terry Miller Recreation Centre\, 1295 Williams Parkway\, Brampton\, Ontario\, L6S 3J8\, Canada
CATEGORIES:District 123 Events,Program Quality,Workshops
ATTACH;FMTTYPE=image/jpeg:https://toastmasters123.org/wp-content/uploads/2025/08/JP-Prof-Devel-workshop-Aug1325.jpg
END:VEVENT
BEGIN:VEVENT
DTSTART;TZID=America/New_York:20250813T184500
DTEND;TZID=America/New_York:20250813T200000
DTSTAMP:20260421T201027
CREATED:20250812T165649Z
LAST-MODIFIED:20250812T165649Z
UID:10001460-1755110700-1755115200@toastmasters123.org
SUMMARY:New Club Distinguished Program (DCP)
DESCRIPTION:Any club can be a distinguished club. Want to know how? Join us with your amazing questions and concerns.
URL:https://toastmasters123.org/event/new-club-distinguished-program-dcp/
LOCATION:Zoom\, Ontario\, Canada
CATEGORIES:Program Quality
ATTACH;FMTTYPE=image/png:https://toastmasters123.org/wp-content/uploads/2025/08/Board-of-Success-DCP-Dashboard.png
ORGANIZER;CN="Program%20Quality%20Team":MAILTO:pqd@toastmasters123.org
END:VEVENT
END:VCALENDAR