BEGIN:VCALENDAR
VERSION:2.0
PRODID:-//Toastmasters District 123 - ECPv6.2.0.1//NONSGML v1.0//EN
CALSCALE:GREGORIAN
METHOD:PUBLISH
X-WR-CALNAME:Toastmasters District 123
X-ORIGINAL-URL:https://toastmasters123.org
X-WR-CALDESC:Events for Toastmasters District 123
REFRESH-INTERVAL;VALUE=DURATION:PT1H
X-Robots-Tag:noindex
X-PUBLISHED-TTL:PT1H
BEGIN:VTIMEZONE
TZID:America/New_York
BEGIN:DAYLIGHT
TZOFFSETFROM:-0500
TZOFFSETTO:-0400
TZNAME:EDT
DTSTART:20250309T070000
END:DAYLIGHT
BEGIN:STANDARD
TZOFFSETFROM:-0400
TZOFFSETTO:-0500
TZNAME:EST
DTSTART:20251102T060000
END:STANDARD
BEGIN:DAYLIGHT
TZOFFSETFROM:-0500
TZOFFSETTO:-0400
TZNAME:EDT
DTSTART:20260308T070000
END:DAYLIGHT
BEGIN:STANDARD
TZOFFSETFROM:-0400
TZOFFSETTO:-0500
TZNAME:EST
DTSTART:20261101T060000
END:STANDARD
TZID:America/Toronto
BEGIN:DAYLIGHT
TZOFFSETFROM:-0500
TZOFFSETTO:-0400
TZNAME:EDT
DTSTART:20250309T070000
END:DAYLIGHT
BEGIN:STANDARD
TZOFFSETFROM:-0400
TZOFFSETTO:-0500
TZNAME:EST
DTSTART:20251102T060000
END:STANDARD
END:VTIMEZONE
BEGIN:VEVENT
DTSTART;VALUE=DATE:20250701
DTEND;VALUE=DATE:20260416
DTSTAMP:20260419T201030
CREATED:20250613T022150Z
LAST-MODIFIED:20250710T004334Z
UID:10001434-1751328000-1776297599@toastmasters123.org
SUMMARY:Magical 8 Member Club
DESCRIPTION:Your hard work is magical for your club and District 123!\nAll clubs who ADD 8 members (DCP 7 & DCP 8) by April 15th will become a Magical 8 Member Club! The club will receive a $25 gift certificate. \nSend submissions by April 30th to the Incentives Coordinator. Cannot be combined with any other incentive.
URL:https://toastmasters123.org/event/magical-8-member-club/
CATEGORIES:Clubs,District 123 Events,Open House
ATTACH;FMTTYPE=image/jpeg:https://toastmasters123.org/wp-content/uploads/2023/09/Open-House.jpg
END:VEVENT
BEGIN:VEVENT
DTSTART;TZID=America/New_York:20251016T190000
DTEND;TZID=America/New_York:20251120T210000
DTSTAMP:20260419T201030
CREATED:20250810T004104Z
LAST-MODIFIED:20250810T004104Z
UID:10001456-1760641200-1763672400@toastmasters123.org
SUMMARY:6-Week Improve Public Speaking Course – Starting October 16th
DESCRIPTION:Welcome to the the 6 Week Improve Public Speaking Course – Toastmasters Speechcraft event! Are you looking to boost your confidence and improve your public speaking skills? Look no further! Join us at Emmanuel United Church in Brampton\, starting on Tue Apr 22 2025 at 7:25 PM for an interactive and fun course designed to help you become a better speaker. \nDuring this course\, you will have the opportunity to practice speaking in front of a supportive group\, receive constructive feedback\, and learn valuable communication techniques from experienced Toastmasters. Whether you’re a beginner or looking to refine your skills\, this course is perfect for you! \nDon’t miss out on this fantastic opportunity to become a more effective communicator. Mark your calendars and we’ll see you there! \nCourse Includes\n\nSpeechraft digital experience material\nadvisor working one on one\npractice and lessons\naccess to AI speech tools
URL:https://toastmasters123.org/event/6-week-improve-public-speaking-course-starting-october-16th/
LOCATION:Hershaw Toastmasters\, 420 Balmoral Drive\, Brampton\, Ontario\, L6T 1V9\, Canada
CATEGORIES:Club Growth,Speechcraft,Workshops
ATTACH;FMTTYPE=image/jpeg:https://toastmasters123.org/wp-content/uploads/2025/08/hershawcover1.jpg
ORGANIZER;CN="Hershaw%20Toastmasters":MAILTO:contact@hershawtoastmasters.com
END:VEVENT
BEGIN:VEVENT
DTSTART;TZID=America/Toronto:20251117T111500
DTEND;TZID=America/Toronto:20251117T120000
DTSTAMP:20260419T201030
CREATED:20251102T190146Z
LAST-MODIFIED:20251111T014532Z
UID:10001536-1763378100-1763380800@toastmasters123.org
SUMMARY:Toastmasters Communication Achievement Award Presentation to Patrick Brown Nov 17
DESCRIPTION:Award Presentation\n \nJoin us for the Award Presentation to Mayor Patrick Brown in recognition of his achievements in the fields of communication and leadership. \nPatrick Brown\, Mayor of the City of Brampton\, will be presented with the Toastmasters Communication Achievement Award by Hershaw Toastmasters for his achievement in the field of Communication and Leadership. The event will take place on Monday\, November 17\, at 11:15 a.m. at Brampton City Hall. \nRegister and see more at https://hershawaward.eventbrite.ca \nAttendees must register; the location at City Hall will be determined by the number of attendees.
URL:https://toastmasters123.org/event/toastmasters-communication-achievement-award-presentation-to-patrick-brown-nov-17/
LOCATION:Brampton City Hall\, City Hall West Tower 2D\, 2 Wellington St W\, Brampton\, ON\, L6Y 4R2\, Canada
CATEGORIES:B,Club Growth,Open House
ATTACH;FMTTYPE=image/jpeg:https://toastmasters123.org/wp-content/uploads/2025/11/Toastmasters-Communication-Achievement-Award-Presentation-to-Patrick-Brown.jpg
ORGANIZER;CN="Hershaw%20Toastmasters":MAILTO:contact@hershawtoastmasters.com
END:VEVENT
BEGIN:VEVENT
DTSTART;TZID=America/Toronto:20251118T053000
DTEND;TZID=America/Toronto:20251118T193000
DTSTAMP:20260419T201030
CREATED:20251116T222605Z
LAST-MODIFIED:20251116T222605Z
UID:10001545-1763443800-1763494200@toastmasters123.org
SUMMARY:Area A44 Contests
DESCRIPTION:Join us for funny speeches\, creative impromptu speaking and great camaraderie at the Area 44 Humorous Speech and Table Topics contests
URL:https://toastmasters123.org/event/area-a44-contests/
LOCATION:Markham YMCA Employment Services\, 4855 14th Avenue\, Markham\, Ontario\, Canada
CATEGORIES:A
ATTACH;FMTTYPE=image/png:https://toastmasters123.org/wp-content/uploads/2025/06/D123-Speech-Contests-generic-1.png
ORGANIZER;CN="Area%20A44%20Director":MAILTO:areaa44@toastmasters123.org
END:VEVENT
BEGIN:VEVENT
DTSTART;TZID=America/New_York:20251122T100000
DTEND;TZID=America/New_York:20251122T120000
DTSTAMP:20260419T201030
CREATED:20250923T004405Z
LAST-MODIFIED:20250923T004405Z
UID:10001490-1763805600-1763812800@toastmasters123.org
SUMMARY:TLI/Club Officers Training = II
DESCRIPTION:This is an opportunity not only to fulfill the required credit for the distinguished program but also to gain insight into the roles and responsibilities of the executive. We’d like to share your experience\, list of challenges\, and achievements from the last five months. We will have smaller breakout rooms for attendees to interact with the facilitator or within their own breakout group. 
URL:https://toastmasters123.org/event/tli-club-officers-training-ii/
LOCATION:Zoom\, Ontario\, Canada
CATEGORIES:Club Officer Training,District 123 Events,Program Quality
ATTACH;FMTTYPE=image/png:https://toastmasters123.org/wp-content/uploads/2025/09/div_g_intl_speech_contest-5.png
END:VEVENT
BEGIN:VEVENT
DTSTART;TZID=America/New_York:20251122T140000
DTEND;TZID=America/New_York:20251122T160000
DTSTAMP:20260419T201030
CREATED:20250831T010908Z
LAST-MODIFIED:20251007T164754Z
UID:10001469-1763820000-1763827200@toastmasters123.org
SUMMARY:Division C Contests
DESCRIPTION:Division C – District 123 Contests – Humorous and Table Topics
URL:https://toastmasters123.org/event/division-c-contests/
LOCATION:Toronto Pulic Library-Program Room\, Eglinton Square Shopping Centre\, 1 Eglinton Square\, Unit 1266\, Toronto\, Ontario\, M1L2K1\, Canada
CATEGORIES:C
ATTACH;FMTTYPE=image/png:https://toastmasters123.org/wp-content/uploads/2025/10/divccontestnov22-1.png
ORGANIZER;CN="Division%20C%20Director":MAILTO:divc@toastmasters123.org
END:VEVENT
END:VCALENDAR