BEGIN:VCALENDAR
VERSION:2.0
PRODID:-//Toastmasters District 123 - ECPv6.2.0.1//NONSGML v1.0//EN
CALSCALE:GREGORIAN
METHOD:PUBLISH
X-WR-CALNAME:Toastmasters District 123
X-ORIGINAL-URL:https://toastmasters123.org
X-WR-CALDESC:Events for Toastmasters District 123
REFRESH-INTERVAL;VALUE=DURATION:PT1H
X-Robots-Tag:noindex
X-PUBLISHED-TTL:PT1H
BEGIN:VTIMEZONE
TZID:America/New_York
BEGIN:DAYLIGHT
TZOFFSETFROM:-0500
TZOFFSETTO:-0400
TZNAME:EDT
DTSTART:20250309T070000
END:DAYLIGHT
BEGIN:STANDARD
TZOFFSETFROM:-0400
TZOFFSETTO:-0500
TZNAME:EST
DTSTART:20251102T060000
END:STANDARD
BEGIN:DAYLIGHT
TZOFFSETFROM:-0500
TZOFFSETTO:-0400
TZNAME:EDT
DTSTART:20260308T070000
END:DAYLIGHT
BEGIN:STANDARD
TZOFFSETFROM:-0400
TZOFFSETTO:-0500
TZNAME:EST
DTSTART:20261101T060000
END:STANDARD
TZID:America/Toronto
BEGIN:DAYLIGHT
TZOFFSETFROM:-0500
TZOFFSETTO:-0400
TZNAME:EDT
DTSTART:20260308T070000
END:DAYLIGHT
BEGIN:STANDARD
TZOFFSETFROM:-0400
TZOFFSETTO:-0500
TZNAME:EST
DTSTART:20261101T060000
END:STANDARD
END:VTIMEZONE
BEGIN:VEVENT
DTSTART;VALUE=DATE:20250701
DTEND;VALUE=DATE:20260416
DTSTAMP:20260419T124408
CREATED:20250613T022150Z
LAST-MODIFIED:20250710T004334Z
UID:10001434-1751328000-1776297599@toastmasters123.org
SUMMARY:Magical 8 Member Club
DESCRIPTION:Your hard work is magical for your club and District 123!\nAll clubs who ADD 8 members (DCP 7 & DCP 8) by April 15th will become a Magical 8 Member Club! The club will receive a $25 gift certificate. \nSend submissions by April 30th to the Incentives Coordinator. Cannot be combined with any other incentive.
URL:https://toastmasters123.org/event/magical-8-member-club/
CATEGORIES:Clubs,District 123 Events,Open House
ATTACH;FMTTYPE=image/jpeg:https://toastmasters123.org/wp-content/uploads/2023/09/Open-House.jpg
END:VEVENT
BEGIN:VEVENT
DTSTART;VALUE=DATE:20260101
DTEND;VALUE=DATE:20260301
DTSTAMP:20260419T124408
CREATED:20250729T235424Z
LAST-MODIFIED:20250729T235424Z
UID:10001454-1767225600-1772323199@toastmasters123.org
SUMMARY:Open House Challenge 2 2026!
DESCRIPTION:Clubs that run an Open House between Jan 1 – Feb 28(29) and add 3+ new members within 4 weeks of the event will receive $25 a TI gift certificate. \nClubs must send copy of flyer\, and membership list before and after the open house\, to be received by March 15th. Can not be combined with any other incentive. Send questions and incentive submissions to incentives@toastmasters123.org \nCheck out all Club Growth Incentives at https://toastmasters123.org/club-growth/#awards
URL:https://toastmasters123.org/event/open-house-challenge-2-2026/
CATEGORIES:Club Growth,Incentives
ATTACH;FMTTYPE=image/png:https://toastmasters123.org/wp-content/uploads/2025/06/Open-House-Challenge-2-D123.png
ORGANIZER;CN="Club%20Growth%20Director":MAILTO:cgd@toastmasters123.org
END:VEVENT
BEGIN:VEVENT
DTSTART;VALUE=DATE:20260105
DTEND;VALUE=DATE:20260330
DTSTAMP:20260419T124408
CREATED:20230805T203510Z
LAST-MODIFIED:20251030T111459Z
UID:10000038-1767571200-1774828799@toastmasters123.org
SUMMARY:International Speech Contest
DESCRIPTION:Contestants present a five- to seven- minute speech on any subject they choose. All districts must conduct this contest. \n\nClubs run from contests Jan 5-Feb 1\nAreas run contests Feb 2-Mar 1\nDivisions run contests Mar 2-Mar 29\nDistrict finals at the District Spring Conference May 1-3\, 2026\nAreas with four or fewer clubs will allow 2 contestants per club.\nDivisions with four areas or fewer will allow 2 contestants per area.\nClubs determine how they conduct their own club contest.\nArea\, Division\, and District contests will be in person.\n\nPlease send any contest questions to the Contest Chair at pqd@toastmasters123.org. \nClub Contest Chairs\, please forward winner notification forms to the Area Director.\nArea Directors\, please forward winner notification forms to the Division Directors.\nDivision Directors please forward winner notification forms to the District Contest Chair\, pqd@toastmasters123.org\, as soon as the contests are completed. \nFind speech contests resources here \nSee contest dates and events \nDivision A ~ TBD | See more here\nDivision B ~ TBD | See more here\nDivision C ~ TBD ~ See more here\nDivision D ~ TBD | See more here\nDivision E ~ TBD | See more here\nDivision G ~ TBD| See more here\nDivision M ~ TBD | See more here\nDivision N ~ TBD | See more here \nPlease feel free to “Add an Event” here.  Please be prepared with the requisite rectangular 1280 x 720 image.  Thanks. \n  \n 
URL:https://toastmasters123.org/event/international-speech-contest/
CATEGORIES:Speech Contests
ATTACH;FMTTYPE=image/png:https://toastmasters123.org/wp-content/uploads/2023/08/vvContests-International.png
END:VEVENT
BEGIN:VEVENT
DTSTART;TZID=America/Toronto:20260113T200000
DTEND;TZID=America/Toronto:20260113T213000
DTSTAMP:20260419T124408
CREATED:20251209T022918Z
LAST-MODIFIED:20251209T022946Z
UID:10001550-1768334400-1768339800@toastmasters123.org
SUMMARY:Division E Club Officer Training Round 2
DESCRIPTION:The Club Officer Training provides the essential knowledge\, strategies\, and best practices every officer needs to support a successful Toastmasters year. Learn your role\, connect with other leaders\, and walk away with actionable tools to help your club thrive.
URL:https://toastmasters123.org/event/division-e-club-officer-training-round-2/
LOCATION:Zoom\, Ontario\, Canada
CATEGORIES:Club Officer Training
ATTACH;FMTTYPE=image/jpeg:https://toastmasters123.org/wp-content/uploads/2025/12/COTTRAINING2.jpg
ORGANIZER;CN="Division%20E%20Director":MAILTO:dive@toastmasters123.org
END:VEVENT
BEGIN:VEVENT
DTSTART;TZID=America/Toronto:20260117T100000
DTEND;TZID=America/Toronto:20260117T120000
DTSTAMP:20260419T124408
CREATED:20260107T014910Z
LAST-MODIFIED:20260107T014910Z
UID:10001564-1768644000-1768651200@toastmasters123.org
SUMMARY:Division A Club Officer Training Round 2
DESCRIPTION:Here’s your chance to help your club thrive and for you to grow as a leader while scoring valuable DCP points. Win-win!
URL:https://toastmasters123.org/event/division-a-club-officer-training-round-2/
LOCATION:Zoom\, Ontario\, Canada
CATEGORIES:Club Officer Training
ATTACH;FMTTYPE=image/png:https://toastmasters123.org/wp-content/uploads/2025/07/COT-828-x-676-px-Training-generic.png
ORGANIZER;CN="Division%20A%20Director":MAILTO:diva@toastmasters123.org
END:VEVENT
END:VCALENDAR