BEGIN:VCALENDAR
VERSION:2.0
PRODID:-//Toastmasters District 123 - ECPv6.2.0.1//NONSGML v1.0//EN
CALSCALE:GREGORIAN
METHOD:PUBLISH
X-ORIGINAL-URL:https://toastmasters123.org
X-WR-CALDESC:Events for Toastmasters District 123
REFRESH-INTERVAL;VALUE=DURATION:PT1H
X-Robots-Tag:noindex
X-PUBLISHED-TTL:PT1H
BEGIN:VTIMEZONE
TZID:America/New_York
BEGIN:DAYLIGHT
TZOFFSETFROM:-0500
TZOFFSETTO:-0400
TZNAME:EDT
DTSTART:20250309T070000
END:DAYLIGHT
BEGIN:STANDARD
TZOFFSETFROM:-0400
TZOFFSETTO:-0500
TZNAME:EST
DTSTART:20251102T060000
END:STANDARD
BEGIN:DAYLIGHT
TZOFFSETFROM:-0500
TZOFFSETTO:-0400
TZNAME:EDT
DTSTART:20260308T070000
END:DAYLIGHT
BEGIN:STANDARD
TZOFFSETFROM:-0400
TZOFFSETTO:-0500
TZNAME:EST
DTSTART:20261101T060000
END:STANDARD
TZID:America/Toronto
BEGIN:DAYLIGHT
TZOFFSETFROM:-0500
TZOFFSETTO:-0400
TZNAME:EDT
DTSTART:20260308T070000
END:DAYLIGHT
BEGIN:STANDARD
TZOFFSETFROM:-0400
TZOFFSETTO:-0500
TZNAME:EST
DTSTART:20261101T060000
END:STANDARD
END:VTIMEZONE
BEGIN:VEVENT
DTSTART;VALUE=DATE:20250701
DTEND;VALUE=DATE:20260416
DTSTAMP:20260419T095453
CREATED:20250613T022150Z
LAST-MODIFIED:20250710T004334Z
UID:10001434-1751328000-1776297599@toastmasters123.org
SUMMARY:Magical 8 Member Club
DESCRIPTION:Your hard work is magical for your club and District 123!\nAll clubs who ADD 8 members (DCP 7 & DCP 8) by April 15th will become a Magical 8 Member Club! The club will receive a $25 gift certificate. \nSend submissions by April 30th to the Incentives Coordinator. Cannot be combined with any other incentive.
URL:https://toastmasters123.org/event/magical-8-member-club/
CATEGORIES:Clubs,District 123 Events,Open House
ATTACH;FMTTYPE=image/jpeg:https://toastmasters123.org/wp-content/uploads/2023/09/Open-House.jpg
END:VEVENT
BEGIN:VEVENT
DTSTART;VALUE=DATE:20260101
DTEND;VALUE=DATE:20260301
DTSTAMP:20260419T095453
CREATED:20250729T235424Z
LAST-MODIFIED:20250729T235424Z
UID:10001454-1767225600-1772323199@toastmasters123.org
SUMMARY:Open House Challenge 2 2026!
DESCRIPTION:Clubs that run an Open House between Jan 1 – Feb 28(29) and add 3+ new members within 4 weeks of the event will receive $25 a TI gift certificate. \nClubs must send copy of flyer\, and membership list before and after the open house\, to be received by March 15th. Can not be combined with any other incentive. Send questions and incentive submissions to incentives@toastmasters123.org \nCheck out all Club Growth Incentives at https://toastmasters123.org/club-growth/#awards
URL:https://toastmasters123.org/event/open-house-challenge-2-2026/
CATEGORIES:Club Growth,Incentives
ATTACH;FMTTYPE=image/png:https://toastmasters123.org/wp-content/uploads/2025/06/Open-House-Challenge-2-D123.png
ORGANIZER;CN="Club%20Growth%20Director":MAILTO:cgd@toastmasters123.org
END:VEVENT
BEGIN:VEVENT
DTSTART;VALUE=DATE:20260105
DTEND;VALUE=DATE:20260330
DTSTAMP:20260419T095453
CREATED:20230805T203510Z
LAST-MODIFIED:20251030T111459Z
UID:10000038-1767571200-1774828799@toastmasters123.org
SUMMARY:International Speech Contest
DESCRIPTION:Contestants present a five- to seven- minute speech on any subject they choose. All districts must conduct this contest. \n\nClubs run from contests Jan 5-Feb 1\nAreas run contests Feb 2-Mar 1\nDivisions run contests Mar 2-Mar 29\nDistrict finals at the District Spring Conference May 1-3\, 2026\nAreas with four or fewer clubs will allow 2 contestants per club.\nDivisions with four areas or fewer will allow 2 contestants per area.\nClubs determine how they conduct their own club contest.\nArea\, Division\, and District contests will be in person.\n\nPlease send any contest questions to the Contest Chair at pqd@toastmasters123.org. \nClub Contest Chairs\, please forward winner notification forms to the Area Director.\nArea Directors\, please forward winner notification forms to the Division Directors.\nDivision Directors please forward winner notification forms to the District Contest Chair\, pqd@toastmasters123.org\, as soon as the contests are completed. \nFind speech contests resources here \nSee contest dates and events \nDivision A ~ TBD | See more here\nDivision B ~ TBD | See more here\nDivision C ~ TBD ~ See more here\nDivision D ~ TBD | See more here\nDivision E ~ TBD | See more here\nDivision G ~ TBD| See more here\nDivision M ~ TBD | See more here\nDivision N ~ TBD | See more here \nPlease feel free to “Add an Event” here.  Please be prepared with the requisite rectangular 1280 x 720 image.  Thanks. \n  \n 
URL:https://toastmasters123.org/event/international-speech-contest/
CATEGORIES:Speech Contests
ATTACH;FMTTYPE=image/png:https://toastmasters123.org/wp-content/uploads/2023/08/vvContests-International.png
END:VEVENT
BEGIN:VEVENT
DTSTART;VALUE=DATE:20260201
DTEND;VALUE=DATE:20260401
DTSTAMP:20260419T095453
CREATED:20230802T184708Z
LAST-MODIFIED:20250710T010332Z
UID:10000031-1769904000-1775001599@toastmasters123.org
SUMMARY:Promote the “Talk Up Toastmasters” Membership  Contest
DESCRIPTION:Toastmasters love to connect\, so take advantage of it. The Talk Up Toastmasters membership program is the chance to encourage your members to invite guests to a special meeting where prospective members can learn about Toastmasters’ many benefits. Then add five new\, dual or reinstated members with a join date between February 1 and March 31\, and you’ll receive a special Talk up Toastmasters ribbon to display on your club’s banner. Qualifying clubs can also earn a special discount code for 10% off their next club order. (The discount code expires six months from the date of issue and is not valid with any other offer.) \nLearn more about Membership Building
URL:https://toastmasters123.org/event/promote-talk-up-toastmasters/
CATEGORIES:Clubs
ATTACH;FMTTYPE=image/png:https://toastmasters123.org/wp-content/uploads/2023/08/Talk-up-Toastmastersv.png
ORGANIZER;CN="Club%20Growth%20Director":MAILTO:cgd@toastmasters123.org
END:VEVENT
BEGIN:VEVENT
DTSTART;TZID=America/Toronto:20260217T190000
DTEND;TZID=America/Toronto:20260217T210000
DTSTAMP:20260419T095453
CREATED:20260117T223446Z
LAST-MODIFIED:20260117T223446Z
UID:10001566-1771354800-1771362000@toastmasters123.org
SUMMARY:Area N15 International Speech Contest
DESCRIPTION:You are invited to attend this event to hear inspiring speeches by our club members.  It’s a perfect opportunity to check out what Toastmasters is all about!
URL:https://toastmasters123.org/event/area-n15-international-speech-contest/
LOCATION:Barrie & District Association of Realtors\, 676 Veterans Drive\, Barrie\, Ontario\, L9JOH6\, Canada
CATEGORIES:N
ATTACH;FMTTYPE=image/jpeg:https://toastmasters123.org/wp-content/uploads/2026/01/AREA-N-15-INTERNATIONAL-SPEECH-CONTEST.jpg
ORGANIZER;CN="Area%20N15%20director":MAILTO:arean15@toastmasters123.org
END:VEVENT
BEGIN:VEVENT
DTSTART;TZID=America/Toronto:20260217T190000
DTEND;TZID=America/Toronto:20260217T210000
DTSTAMP:20260419T095453
CREATED:20260205T030633Z
LAST-MODIFIED:20260214T011834Z
UID:10001578-1771354800-1771362000@toastmasters123.org
SUMMARY:Area A45 Speech Contest
DESCRIPTION:Join us for a great evening of competition and connection as we find out who will represent this talented Area of Toastmasters at the Division A International Speech contest on March 2.
URL:https://toastmasters123.org/event/area-a45-speech-contest/
LOCATION:Scarborough Civic Centre\, 150 Borough Drive\, Scarborough\, ON\, M1P 4N7\, Canada
CATEGORIES:A
ATTACH;FMTTYPE=image/png:https://toastmasters123.org/wp-content/uploads/2025/06/D123-Speech-Contests-generic.png
ORGANIZER;CN="Area%2045%20Director":MAILTO:diva@toastmasters123.org
END:VEVENT
BEGIN:VEVENT
DTSTART;TZID=America/Toronto:20260219T170000
DTEND;TZID=America/Toronto:20260219T200000
DTSTAMP:20260419T095453
CREATED:20260116T025508Z
LAST-MODIFIED:20260116T025508Z
UID:10001565-1771520400-1771531200@toastmasters123.org
SUMMARY:Area C61 International Speech Contest
DESCRIPTION:Ladies and Gentlemen\, please join us for our Area C61 International Speech Contest. An evening of fun and learning as we listen to interesting speeches and laud our contestants in the Area C61 International Speech Contest. Held at Tarion\, in North York\, on the 19th of February\, 2026\, from 5pm – 8pm. See you there!
URL:https://toastmasters123.org/event/area-c61-international-speech-contest/
LOCATION:5160 Yonge St – Tarion – 7th Floor\, 5160 Yonge St - Tarion - 7th Floor\, Toronto\, ON\, M2N 6L9\, Canada
CATEGORIES:Areas,C
ATTACH;FMTTYPE=image/jpeg:https://toastmasters123.org/wp-content/uploads/2026/01/DISTRICT-123-AREA-C61.jpg
ORGANIZER;CN="Area%20C61%20Director":MAILTO:areaC61@Toastmasters123.org
END:VEVENT
BEGIN:VEVENT
DTSTART;TZID=America/Toronto:20260220T190000
DTEND;TZID=America/Toronto:20260220T210000
DTSTAMP:20260419T095453
CREATED:20260205T030644Z
LAST-MODIFIED:20260205T030644Z
UID:10001579-1771614000-1771621200@toastmasters123.org
SUMMARY:Division N Club Officer Training - Round 2
DESCRIPTION:Division N Club Officer Training – Round 2 \nTraining available for all executive roles. Includes workshop on helping clubs thrive.
URL:https://toastmasters123.org/event/division-n-club-officer-training-round-2/
LOCATION:Zoom\, Ontario\, Canada
CATEGORIES:Club Officer Training,N
ATTACH;FMTTYPE=image/png:https://toastmasters123.org/wp-content/uploads/2026/01/Division-N-COT.png
ORGANIZER;CN="Division%20N%20Director":MAILTO:divn@toastmasters123.org
END:VEVENT
BEGIN:VEVENT
DTSTART;TZID=America/Toronto:20260221T133000
DTEND;TZID=America/Toronto:20260221T153000
DTSTAMP:20260419T095453
CREATED:20251221T225932Z
LAST-MODIFIED:20260103T005316Z
UID:10001558-1771680600-1771687800@toastmasters123.org
SUMMARY:Area C62 International Speech Contest
DESCRIPTION:Area C62 International Speech Contest
URL:https://toastmasters123.org/event/area-c62-international-speech-contest/
LOCATION:Toronto Public Library – Hillcrest Branch Auditorium\, 5801 Leslie St.\, Toronto\, Ontario\, 5801 Leslie St.\, Toronto\, ON\, Canada
CATEGORIES:Areas,C,Divisions
ATTACH;FMTTYPE=image/png:https://toastmasters123.org/wp-content/uploads/2025/12/Area-C62-Feb-21-2026.png
ORGANIZER;CN="Division%20C%20Director":MAILTO:divc@toastmasters123.org
END:VEVENT
BEGIN:VEVENT
DTSTART;TZID=America/Toronto:20260221T133000
DTEND;TZID=America/Toronto:20260221T153000
DTSTAMP:20260419T095453
CREATED:20260117T224947Z
LAST-MODIFIED:20260117T224947Z
UID:10001568-1771680600-1771687800@toastmasters123.org
SUMMARY:Area C63 International Speech Contest
DESCRIPTION:Area C63 International Speech Contest 
URL:https://toastmasters123.org/event/area-c63-international-speech-contest/
LOCATION:5801 leslie street Toronto\, 5801 Leslie Street\, Toronto\, Ontario\, M2H 1J8\, Canada
CATEGORIES:Areas,C
ATTACH;FMTTYPE=image/jpeg:https://toastmasters123.org/wp-content/uploads/2026/01/IMG_5157.jpeg
ORGANIZER;CN="Area%20C63%20Director":MAILTO:areac63@toastmasters123.org
END:VEVENT
BEGIN:VEVENT
DTSTART;TZID=America/Toronto:20260221T150000
DTEND;TZID=America/Toronto:20260221T163000
DTSTAMP:20260419T095453
CREATED:20260214T003910Z
LAST-MODIFIED:20260214T011549Z
UID:10001583-1771686000-1771691400@toastmasters123.org
SUMMARY:2026 Area B23 International Speech Contest
DESCRIPTION:Contestant Briefing: 2:45 P.M.\nContest Officials Briefing: 2:45 P.M. (Judge\, Counter\, Timer\, SAA)\n\nContest Start Time:  3:00 P.M. – 4:00 P.M.\n\n\nContestants\, contact Area B23 Director\, Zlata Proudlock\, zproudlock0503@rogers.com\, with requests or advise if using props.\n\n\nPlease follow the attached map for parking and accessing Loblaw Companies Limited (Auditorium)\n\n\n\n\n\n\n\n\n\n\n\n\n\n\n\n\n\nMap_Parking at Loblaw Headoffice_Vendor Lobby-Auditorium
URL:https://toastmasters123.org/event/2026-area-b23-international-speech-contest/
LOCATION:Loblaws Companies Limited Auditorium\, 1 President's Choice Circle\, Brampton\, Ontario\, L6Y 5S5\, Canada
ATTACH;FMTTYPE=image/png:https://toastmasters123.org/wp-content/uploads/2025/06/D123-Speech-Contests-generic-1.png
ORGANIZER;CN="Area%20B23%20Director":MAILTO:areab23@toastmasters123.org
END:VEVENT
BEGIN:VEVENT
DTSTART;TZID=America/Toronto:20260222T120000
DTEND;TZID=America/Toronto:20260222T140000
DTSTAMP:20260419T095453
CREATED:20260214T003441Z
LAST-MODIFIED:20260214T003441Z
UID:10001582-1771761600-1771768800@toastmasters123.org
SUMMARY:Area C65 International Speech Contest
DESCRIPTION:Area C65 International Speech Contest
URL:https://toastmasters123.org/event/area-c65-international-speech-contest/
LOCATION:5120 Yonge Street\, Toronto\, ON\, M2N 5N9\, 5120 Yonge Street\, Toronto\, ON\, M2N 5N9\, Canada
CATEGORIES:Areas,C,Divisions
ATTACH;FMTTYPE=image/jpeg:https://toastmasters123.org/wp-content/uploads/2026/02/IMG_5321.jpeg
END:VEVENT
END:VCALENDAR